BEGIN:VCALENDAR
VERSION:2.0
PRODID:icalendar-ruby
CALSCALE:GREGORIAN
METHOD:PUBLISH
BEGIN:VEVENT
DTSTAMP:20260423T035413Z
UID:f3718322-1ccf-4ffa-a7cb-89ae29579e41
DTSTART:20231020T220000
DTEND:20231021T030000
DESCRIPTION:<p>Chilli Pros Presents … END GAME !!</p><p><br></p><p>It’s
  the final call !!!</p><p>Get ready to raise your glasses up and to put on
  your dancing shoes!!</p><p><br></p><p>Its The End Game !!</p><p><br></p><
 p>R.O.A.R</p>
LOCATION:The Sands\, 58 Wierda Rd\, Sandton
SUMMARY:End Game
URL;VALUE=URI:https://www.howler.co.za/EndGameJhb
END:VEVENT
END:VCALENDAR
