BEGIN:VCALENDAR
VERSION:2.0
PRODID:icalendar-ruby
CALSCALE:GREGORIAN
METHOD:PUBLISH
BEGIN:VEVENT
DTSTAMP:20260424T040639Z
UID:c949077a-0f1f-446d-90e0-a760c3afa623
DTSTART:20201121T160000
DTEND:20201121T230000
DESCRIPTION:<p>Hey family!</p><p><br></p><p>We've decided to launch an alte
 rnative version of our usual <a href="https://www.instagram.com/segue.ct/"
  target="_blank">Segue</a> experience\, creating a space for people to fee
 l safe and enjoy themselves in a common social environment. </p><p><br></p
 ><p><strong>Selectors:</strong></p><p><br></p><p>Jacob Euphony</p><p>Rares
 oftware</p><p>Rarri (G-Spot)</p><p>Bedford</p><p>Riplock</p><p><br></p><p>
 Tickets @ R60</p><p><br></p><p><strong>NB!!! ONLY 70 TICKETS AVAILABLE </s
 trong>- don't sleep.</p><p><br></p><p>PLEASE DO NOT FORGET TO WEAR YOUR MA
 SKS AND PERSONAL HAND SANITIZERS.</p><p><br></p><p>MAINTAIN SOCIAL DISTANC
 ING AT ALL TIMES.</p><p><br></p><p><br></p><p><br></p><p><br></p><p><br></
 p><p><br></p>
LOCATION:189 Buitengracht St\, Gardens\, Cape Town\, 8001
SUMMARY:Feels So Good: An Alternative Segue Experience 
URL;VALUE=URI:https://www.howler.co.za/feelssogood
END:VEVENT
END:VCALENDAR
