BEGIN:VCALENDAR
VERSION:2.0
PRODID:icalendar-ruby
CALSCALE:GREGORIAN
METHOD:PUBLISH
BEGIN:VEVENT
DTSTAMP:20260419T130925Z
UID:722b2375-5675-4028-9f94-725ea2e8f34d
DTSTART:20221001T210000
DTEND:20221002T020000
DESCRIPTION:<p><strong style="color: rgb(5\, 5\, 5)\; background-color: rgb
 (255\, 255\, 255)\;">Are you Ready to create a night of Fire&Ice...</stron
 g></p><p><br></p><p>A Night Fusing Hot & Cold.. FIRE & ICE</p><p><br></p><
 p><strong style="color: rgb(5\, 5\, 5)\; background-color: rgb(255\, 255\,
  255)\;">House Vs Hip Hop // Tech Vs AmaPiano....</strong></p><p><br></p><
 p><strong style="color: rgb(5\, 5\, 5)\; background-color: rgb(255\, 255\,
  255)\;">ROAR</strong></p>
LOCATION:Coachman's Crossing\, Peter Place\, Bryanston\, Sandton
SUMMARY:Fire & Ice JHB
URL;VALUE=URI:https://www.howler.co.za/FireIceJHB
END:VEVENT
END:VCALENDAR
