BEGIN:VCALENDAR
VERSION:2.0
PRODID:icalendar-ruby
CALSCALE:GREGORIAN
METHOD:PUBLISH
BEGIN:VEVENT
DTSTAMP:20260422T010623Z
UID:4608de0f-f851-4f0b-9e0b-f9251042b437
DTSTART:20251220T140000
DTEND:20251220T210000
DESCRIPTION:<h3><strong>FlySafair Get Lucky Summer Cape Town is BACK! 🌅<
 /strong></h3><p><br></p><p>Celebrate the festive season with a <strong>Pre
 -Christmas Outdoor Summer Picnic Concert</strong> featuring performances b
 y <strong>GoodLuck\, Matthew Mole\, Will Linley\, Majozi & Freddy L</stron
 g> LIVE at <strong>The Constantia Sports Fields!</strong></p><p><br></p><p
 >We’re thrilled to announce the return of Cape Town’s favourite family
 -friendly concert series\, <strong>FlySafair Get Lucky Summer</strong>\, f
 or another magical afternoon under the Constantia skies. This year’s sho
 w promises an incredible celebration of music\, friends\, and the start of
  the festive season in one of the most beautiful locations in Constantia\,
  Cape Town.</p><p><br></p><p><span style="color: rgb(64\, 77\, 87)\;">Foll
 ow </span><a href="https://www.instagram.com/getluckysummersa" target="_bl
 ank" style="color: rgb(248\, 128\, 63)\;"><strong>FlySafair Get Lucky Summ
 er</strong></a><span style="color: rgb(64\, 77\, 87)\;"> for announcement
 s.</span></p><p><br></p><h3>THE EXPERIENCE</h3><p>Join us on <strong>Satur
 day\, 20 December</strong> for the ultimate pre-Christmas celebration:</p>
 <p>✨ A sunset picnic concert in the lush Constantia valley</p><p>✨ A s
 tacked line-up of some of South Africa’s most loved live acts</p><p>✨ 
 Fully stocked bars\, coffee stations\, and gourmet food trucks</p><p>✨ A
  relaxed\, family-friendly atmosphere with plenty of space to dance\, chil
 l\, and celebrate summer</p><p><br></p><h3>2025 LINE-UP 🎶</h3><p><br></
 p><p><strong>GOODLUCK</strong></p><p><strong>MATTHEW MOLE</strong></p><p><
 strong>WILL LINLEY</strong></p><p><strong>MAJOZI</strong></p><p><strong>FR
 EDDY L</strong></p><p><br></p><h3>EVENT DETAILS</h3><p><br></p><p>📍 <st
 rong>The Constantia Sports Fields (near Virgin Active Constantia)</strong>
 </p><p>📅 <strong>Saturday 20 December 2025</strong></p><p>⏰ <strong>G
 ates Open 14:00 | Music until 21:00</strong></p><p>Final stage times will 
 be released closer to the event - keep an eye on our socials!</p><p><br></
 p><h3>TICKETS 🎟️</h3><p><strong><em>BOOK NOW – LAST YEAR SOLD OUT 2
  WEEKS BEFORE!</em>:</strong></p><p><br></p><p>👨‍👩‍👧‍👦 F
 amily of 4: R220 (SOLD OUT)</p><p>🐦 Early Bird: R250 (SOLD OUT)</p><p>
 🎟️ Phase 2: R330 (SOLD OUT)</p><p>🔥 Final Phase: R385 (LIMITED)</p
 ><p>👶 Kids U12: R160 (LIMITED)</p><p>👶 Babies U2: FREE</p><p><br></p
 ><h3>FOOD & DRINKS</h3><p><br></p><p>Come hungry... we’ve curated an epi
 c variety of food trucks and treats for you.</p><p>🍉 Picnics with <stro
 ng>food only</strong> are welcome!</p><p>🍹 No outside drinks allowed 
 – we’ll have plenty of refreshing options on site.</p><p><br></p><h3>P
 ARKING</h3><p>There is<strong> LIMITED parking and is charged at R50 per c
 ar. </strong>Please park in the designated parking area close to the venue
 \, please follow the signs and marshals when you arrive. Parking is at you
 r own risk. You are parking on a Cricket Field so <strong><em>PLEASE be re
 spectful of the grounds! </em></strong>Parking is at your own risk.</p><p>
 <br></p><h3>SAFETY</h3><p><br></p><p>This is an all-ages\, family-friendly
  event.</p><p>🔑 Under 18s must be accompanied by an adult</p><p>🆔 ID
 s will be requested at the gate</p><p><br></p>
LOCATION:Constantia Sports Complex\, Constantia Main Road\, Constantia
SUMMARY:FlySafair Get Lucky Summer Constantia (ft. GoodLuck\, Matthew Mole\
 , Will Linley\, Majozi & Freddy L) Cape Town
URL;VALUE=URI:https://www.howler.co.za/GLSCapeTown25
END:VEVENT
END:VCALENDAR
