BEGIN:VCALENDAR
VERSION:2.0
PRODID:icalendar-ruby
CALSCALE:GREGORIAN
METHOD:PUBLISH
BEGIN:VEVENT
DTSTAMP:20260422T010304Z
UID:57deb317-bcf7-4c60-90b3-15bcadc5b701
DTSTART:20251229T150000
DTEND:20251229T223000
DESCRIPTION:<p><strong>Knysna’s Biggest Summer Concert is Here! 🌅✨</
 strong></p><p>Say hello to the ultimate way to spend your December holiday
  as the Garden Route's biggest family-friendly concert series <strong>Get 
 Lucky Summer</strong> lands in Knysna for one unforgettable night at <stro
 ng>Loerie Park Sports Grounds</strong> on <strong>George Rex Drive</strong
 >.</p><p><br></p><p>This is going to be the biggest live music event that 
 Knysna has ever seen! With sunset picnics\, ice-cold drinks at fully stock
 ed bars\, food trucks\, and you & your crew dancing barefoot on the grass 
 to some of SA’s best live acts.</p><p><br></p><p><strong style="color: r
 gb(64\, 77\, 87)\;"><em>Follow </em></strong><a href="https://www.instagra
 m.com/getluckysummersa" target="_blank" style="color: rgb(248\, 128\, 63)\
 ;"><strong><em>FlySafair Get Lucky Summer</em></strong></a><strong style="
 color: rgb(64\, 77\, 87)\;"><em> for announcements.</em></strong></p><p><
 br></p><h3>THE EXPERIENCE</h3><p>Get Lucky Summer Knysna is more than JUST
  a concert - it’s the best night of your holiday:</p><p>✨ Lay out your
  picnic blanket at sunset and let the music take you away.</p><p>✨ Sing\
 , dance\, and celebrate summer with your favourite people.</p><p>✨ Feast
  from gourmet food trucks & sip from our ice-cold beer garden [over 18 onl
 y].</p><p>✨ A safe\, family-friendly space with plenty of room to dance 
 and chill.</p><p><br></p><h3>LINE-UP 🎶</h3><p><strong>GOODLUCK</strong>
 </p><p><strong>WILL LINLEY</strong></p><p><strong>FRESHLYGROUND</strong></
 p><p><strong>BEN RODRIGUES</strong></p><p><strong>STEVE UMCULO</strong></p
 ><p><br></p><p><br></p><h3>EVENT DETAILS</h3><p>📍 <strong>Loerie Park S
 ports Grounds\, George Rex Drive\, Knysna</strong></p><p>📅 <strong>Mond
 ay\, 29 December 2025</strong></p><p>⏰ <strong>Gates open 15:00 | Music 
 until 22:00</strong></p><p><br></p><p>Final stage times to be announced cl
 oser to the date - follow our socials!</p><p><br></p><h3>TICKETS 🎟️ <
 strong><em>BOOK NOW</em></strong></h3><p><br></p><p><strong>GENERAL:</stro
 ng></p><p>👨‍👩‍👧‍👦 Family of 4 (discount): R250 (LAST TIC
 KETS)</p><p>🐦 Early Bird: R295 (SOLD OUT)</p><p>🎟️ Phase 2: R350 (
 SOLD OUT)</p><p>🔥 Final Phase: R395 (LIMITED)</p><p>👶 Kids U12: R180
  (LIMITED)</p><p><br></p><h3>FOOD & DRINKS</h3><p>We’ve got Knysna’s b
 est gourmet food trucks\, coffee carts\, and summer bar options lined up. 
 No alcohol may be brought in\, but we’ve got you covered all night with 
 icy cold drinks.</p><p><br></p><h3>PARKING</h3><p>Limited parking availabl
 e at Loerie Park. Local taxis and rideshares recommended if you plan to en
 joy a few drinks.</p><p><br></p><h3>SAFETY</h3><p>All ages welcome. IDs wi
 ll be checked at the gate. Under 18s receive separate accreditation</p><p>
 <br></p><p><br></p>
LOCATION:George Rex Drive Knysna 6571
SUMMARY:FlySafair Get Lucky Summer KNYSNA - GoodLuck\, Will Linley\, Freshl
 y Ground\, Ben Rodrigues & Steve Umculo
URL;VALUE=URI:https://www.howler.co.za/GLSKnysna29DEC
END:VEVENT
END:VCALENDAR
