BEGIN:VCALENDAR
VERSION:2.0
PRODID:icalendar-ruby
CALSCALE:GREGORIAN
METHOD:PUBLISH
BEGIN:VEVENT
DTSTAMP:20260422T010342Z
UID:b986e469-86f0-4ac4-9d8c-e2b2ee805b1e
DTSTART:20260104T150000
DTEND:20260104T210000
DESCRIPTION:<h1><span>🌅 GET LUCKY SUMMER – BEACON ISLAND PLETT 2025</s
 pan></h1><p><strong>Sunday\, 04 January | The Lawns at Beacon Island</stro
 ng></p><p><span>Plett’s favourite holiday summer tradition is back! 🎶
 ✨ Get Lucky Summer returns to the iconic lawns of the Beacon Island Hote
 l with another unforgettable </span><strong>Sunset Concert</strong><span> 
 this holiday season. Gather your friends and family and experience the Gar
 den Route’s most-loved live music series\, under golden skies with the o
 cean at your feet.</span></p><p><br></p><h2><span>🎤 THE EXPERIENCE</spa
 n></h2><p><span>This year\, we’re kicking things off in a big way with a
  </span><strong>massive lineup</strong><span> featuring:</span></p><ul><li
 ><strong>GoodLuck</strong><span> – South Africa’s iconic electronic tr
 io</span></li><li><strong>Will Linley</strong><span> – One of South Afri
 ca's fastest rising stars</span></li><li><strong>Prime Circle</strong><spa
 n> – SA Rock Legends</span></li><li><strong>Grassy Spark</strong><span> 
 – Electrifying live band</span></li><li><strong>Easy Freak</strong><span
 > – Soulful hitmakers</span></li></ul><p><span>💥 PLUS: Look out for o
 ur </span><strong>special TAKEOVER editions</strong><span> later in the se
 ason – with </span><strong>Will Linley (14 Dec)</strong><span> and </spa
 n><strong>Prime Circle (21 Dec)</strong><span> headlining their own nights
 !</span></p><p><br></p><p><span>Expect world-class performances\, breathta
 king sunset views\, fully stocked bars\, delicious eats\, and a vibe that
 ’s all about family\, friends\, and great music.</span></p><p><br></p><h
 2><span>🎟 TICKETS</span></h2><p><span>Available online at </span><stron
 g>Howler</strong><span> (don’t wait – prices go up at the door!).</spa
 n></p><ul><li><strong>Family of 4</strong><span>– R220 (discounted & lim
 ited) - family you have or family you choose</span></li><li><strong>Early 
 Bird</strong><span> – R240 (limited)</span></li><li><strong>Phase 2</str
 ong><span> – R280 (limited)</span></li><li><strong>Main Sale General Onl
 ine</strong><span> – R360</span></li><li><strong>Kids U12</strong><span>
  – R200</span></li><li><strong>VIP (18+)</strong><span> – R550 (includ
 es VIP deck & VIP bar access)</span></li></ul><p><br></p><p><span>🎫 </s
 pan><strong>At the gate:</strong><span> G/A R380 | Kids R220 | VIP R550</s
 pan></p><p><br></p><p><em>*NOTE: Infants Under the age of 2 are FREE </em>
 </p><p><em>ALL attendees Under the age of 18 are required to be accompanie
 d by an adult.</em></p><p><br></p><h2><span>🍹 FOOD & DRINKS</span></h2>
 <p><span>Come early for sundowners and the best ocean views in Plett.</spa
 n></p><ul><li><span>Gourmet food from the Beacon Island’s award-winning 
 restaurant</span></li><li><span>Fully stocked bars</span></li><li><span>Re
 freshing mocktails for non-drinkers</span></li><li><em>(Please note: No ou
 tside beverages permitted.)</em></li></ul><p><br></p><h2><span>🚗 PARKIN
 G</span></h2><p><span>Street parking is limited - please carpool or walk w
 here possible. Additional parking available on the field near SPAR.</span>
 </p><p><br></p><h2><span>🔒 SAFETY & ACCESS</span></h2><ul><li><strong>A
 ll ages welcome</strong><span> (IDs will be checked at the door).</span></
 li><li><strong>Under 18s will be accredited separately and must be accompa
 nied by an adult.</strong></li><li><strong>VIP area strictly 18+</strong><
 span> (babies permitted with parents if necessary).</span></li><li><span>S
 afety policies will be posted online and at the event.</span></li></ul><p>
 <span>✨ Don’t miss Plett’s most magical summer tradition. Sunset\, s
 ea views\, live music\, and memories to last a lifetime.</span></p><p><spa
 n>👉 </span><strong>BOOK NOW on Howler!</strong></p><p><br></p><p><br></
 p>
LOCATION:Beacon Island Hotel\, Beacon Isle Drive\, Plettenberg Bay 6600
SUMMARY:FlySafair Get Lucky Summer Plett BI - GoodLuck & Easy Freak (Editio
 n 4)
URL;VALUE=URI:https://www.howler.co.za/GLS04Jan26
END:VEVENT
END:VCALENDAR
