BEGIN:VCALENDAR
VERSION:2.0
PRODID:icalendar-ruby
CALSCALE:GREGORIAN
METHOD:PUBLISH
BEGIN:VEVENT
DTSTAMP:20260422T010725Z
UID:b6709023-d552-409d-9e76-81dc1d1f1696
DTSTART:20251221T150000
DTEND:20251221T210000
DESCRIPTION:<h1>🌅 GET LUCKY SUMMER – BEACON ISLAND PLETT 2025</h1><p><
 strong>Sunday\, 21 December | The Lawns at Beacon Island</strong></p><p>Pl
 ett’s favourite holiday summer tradition is back! 🎶✨ Get Lucky Summ
 er returns to the iconic lawns of the Beacon Island Hotel with another unf
 orgettable <strong>Sunset Concert</strong> this holiday season. Gather you
 r friends and family and experience the Garden Route’s most-loved live m
 usic series\, under golden skies with the ocean at your feet.</p><p><br></
 p><h2>🎤 THE EXPERIENCE</h2><p>This year\, we’re kicking things off in
  a big way with a <strong> Massive Seasonal Lineup</strong> featuring:</p>
 <ul><li><strong>GoodLuck</strong> – South Africa’s iconic electronic t
 rio (28 Dec & 04 Jan)</li><li><strong>Will Linley</strong> – One of Sout
 h Africa's fastest rising stars (14 Dec)</li><li><strong>Prime Circle</str
 ong> – SA Rock Legends (21 Dec)</li><li><strong>Grassy Spark</strong> 
 – Electrifying live band (28 Dec)</li><li><strong>Easy Freak</strong> 
 – Soulful hitmakers (4 Jan)</li></ul><p>💥 PLUS: Look out for our <str
 ong>special TAKEOVER editions</strong> later in the season – with <stron
 g>Will Linley (14 Dec)</strong> and <strong>Prime Circle (21 Dec)</strong>
  headlining their own nights!</p><p><br></p><p>Expect world-class performa
 nces\, breathtaking sunset views\, fully stocked bars\, delicious eats\, a
 nd a vibe that’s all about family\, friends\, and great music.</p><p><br
 ></p><h2>🎟 TICKETS</h2><p>Available online at <strong>Howler</strong> (
 don’t wait – prices go up at the door!).</p><ul><li><strong>Family of 
 4</strong>– R220 (discounted & limited) - family you have or family you 
 choose (SOLD OUT)</li><li><strong>Early Bird</strong> – R240 (SOLD OUT)<
 /li><li><strong>Phase 2</strong> – R280 (SOLD OUT)</li><li><strong>Main 
 Sale General Online</strong> – R360 (LIMITED)</li><li><strong>Kids U12</
 strong> – R200 (LIMITED)</li><li><strong>VIP (18+)</strong> – R550 inc
 ludes VIP deck & VIP bar access (LAST TICKETS)</li></ul><p><br></p><p>🎫
  <strong>At the gate:</strong> G/A R380 | Kids R220 | VIP R550</p><p><br><
 /p><p><em>*NOTE: Infants Under the age of 2 are FREE </em></p><p><em>ALL a
 ttendees Under the age of 18 are required to be accompanied by an adult.</
 em></p><p><br></p><h2>🍹 FOOD & DRINKS</h2><p>Come early for sundowners 
 and the best ocean views in Plett.</p><ul><li>Gourmet food from the Beacon
  Island’s award-winning restaurant</li><li>Fully stocked bars</li><li>Re
 freshing mocktails for non-drinkers</li><li><em>(Please note: No outside b
 everages permitted.)</em></li></ul><p><br></p><h2>🚗 PARKING</h2><p>Stre
 et parking is limited - please carpool or walk where possible. Additional 
 parking available on the field near SPAR.</p><p><br></p><h2>🔒 SAFETY & 
 ACCESS</h2><ul><li><strong>All ages welcome</strong> (IDs will be checked 
 at the door).</li><li><strong>Under 18s will be accredited separately and 
 must be accompanied by an adult.</strong></li><li><strong>VIP area strictl
 y 18+</strong> (babies permitted with parents if necessary).</li><li>Safet
 y policies will be posted online and at the event.</li></ul><p>✨ Don’t
  miss Plett’s most magical summer tradition. Sunset\, sea views\, live m
 usic\, and memories to last a lifetime.</p><p>👉 <strong>BOOK NOW on How
 ler!</strong></p><p><br></p><p><br></p>
LOCATION:Beacon Island Hotel\, Beacon Isle Drive\, Plettenberg Bay 6600
SUMMARY: FlySafair Get Lucky Summer Plett BI - Prime Circle & Friends (Edit
 ion 2)
URL;VALUE=URI:https://www.howler.co.za/GLS21Dec25
END:VEVENT
END:VCALENDAR
