BEGIN:VCALENDAR
VERSION:2.0
PRODID:icalendar-ruby
CALSCALE:GREGORIAN
METHOD:PUBLISH
BEGIN:VEVENT
DTSTAMP:20260422T010347Z
UID:e5c19798-f57c-4861-aa34-41feae2822c9
DTSTART:20251214T150000
DTEND:20251214T210000
DESCRIPTION:<h1>🌅 GET LUCKY SUMMER – BEACON ISLAND PLETT 2025</h1><p><
 strong>Sunday\, 14 December | The Lawns at Beacon Island</strong></p><p>Pl
 ett’s favourite holiday summer tradition is back! 🎶✨ Get Lucky Summ
 er returns to the iconic lawns of the Beacon Island Hotel with another unf
 orgettable <strong>Sunset Concert</strong> this holiday season. Gather you
 r friends and family and experience the Garden Route’s most-loved live m
 usic series\, under golden skies with the ocean at your feet.</p><p><br></
 p><h2>🎤 THE EXPERIENCE</h2><p>This year\, we’re kicking things off in
  a big way with a <strong>massive lineup</strong> featuring:</p><ul><li><s
 trong>GoodLuck</strong> – South Africa’s iconic electronic trio</li><l
 i><strong>Will Linley</strong> – One of South Africa's fastest rising st
 ars</li><li><strong>Prime Circle</strong> – SA Rock Legends</li><li><str
 ong>Grassy Spark</strong> – Electrifying live band</li><li><strong>Easy 
 Freak</strong> – Soulful hitmakers</li></ul><p>💥 PLUS: Look out for o
 ur <strong>special TAKEOVER editions</strong> later in the season – with
  <strong>Will Linley (14 Dec)</strong> and <strong>Prime Circle (21 Dec)</
 strong> headlining their own nights!</p><p><br></p><p>Expect world-class p
 erformances\, breathtaking sunset views\, fully stocked bars\, delicious e
 ats\, and a vibe that’s all about family\, friends\, and great music.</p
 ><p><br></p><h2>🎟 TICKETS</h2><p>Available online at <strong>Howler</st
 rong> (don’t wait – prices go up at the door!).</p><ul><li><strong>Fam
 ily of 4</strong>– R220 (SOLD OUT) - family you have or family you choos
 e</li><li><strong>Early Bird</strong> – R240 (SOLD OUT)</li><li><strong>
 Phase 2</strong> – R280 (SOLD OUT)</li><li><strong>Main Sale General Onl
 ine</strong> – R360 (LIMITED)</li><li><strong>Kids U12</strong> – R200
  (LIMITED)</li><li><strong>VIP (18+)</strong> – R550 (includes VIP deck 
 & VIP bar access) (SUPER LIMITED)</li></ul><p><br></p><p>🎫 <strong>At t
 he gate:</strong> G/A R380 | Kids R220 | VIP R550</p><p><br></p><p><em>*NO
 TE: Infants Under the age of 2 are FREE </em></p><p><em>ALL attendees Unde
 r the age of 18 are required to be accompanied by an adult.</em></p><p><br
 ></p><h2>🍹 FOOD & DRINKS</h2><p>Come early for sundowners and the best 
 ocean views in Plett.</p><ul><li>Gourmet food from the Beacon Island’s a
 ward-winning restaurant</li><li>Fully stocked bars</li><li>Refreshing mock
 tails for non-drinkers</li><li><em>(Please note: No outside beverages perm
 itted.)</em></li></ul><p><br></p><h2>🚗 PARKING</h2><p>Street parking is
  limited - please carpool or walk where possible. Additional parking avail
 able on the field near SPAR.</p><p><br></p><h2>🔒 SAFETY & ACCESS</h2><u
 l><li><strong>All ages welcome</strong> (IDs will be checked at the door).
 </li><li><strong>Under 18s will be accredited separately and must be accom
 panied by an adult.</strong></li><li><strong>VIP area strictly 18+</strong
 > (babies permitted with parents if necessary).</li><li>Safety policies wi
 ll be posted online and at the event.</li></ul><p>✨ Don’t miss Plett
 ’s most magical summer tradition. Sunset\, sea views\, live music\, and 
 memories to last a lifetime.</p><p>👉 <strong>BOOK NOW on Howler!</stron
 g></p><p><br></p>
LOCATION:Beacon Island Hotel\, Beacon Isle Drive\, Plettenberg Bay 6600
SUMMARY:FlySafair Get Lucky Summer Plett BI - Will Linley & Friends (Editio
 n 1)
URL;VALUE=URI:https://www.howler.co.za/GLS14Dec25
END:VEVENT
END:VCALENDAR
