BEGIN:VCALENDAR
VERSION:2.0
PRODID:icalendar-ruby
CALSCALE:GREGORIAN
METHOD:PUBLISH
BEGIN:VEVENT
DTSTAMP:20260422T010853Z
UID:38f44b3a-706c-4b34-bbf9-c8487bbb0849
DTSTART:20251213T140000
DTEND:20251213T213000
DESCRIPTION:<h3><strong>The West Coast’s Favourite Summer Music Festival 
 is Back! 🌞🌅</strong></h3><p><br></p><p>Gather your crew\, pack your 
 picnic blankets\, and get ready for an unforgettable day out as <strong>Ge
 t Lucky Summer</strong> brings our second edition of the ultimate family-f
 riendly music festival to the <strong>Table View Primary School Fields</st
 rong>.</p><p><br></p><p>This is how the West Coast does summer: great vibe
 s\, sunshine\, ice-cold drinks\, delicious food trucks\, your best friends
  and your favourite South African artists taking you from golden afternoon
  into a magical sunset session.</p><p><br></p><p><span style="color: rgb(6
 4\, 77\, 87)\;">Follow </span><a href="https://www.instagram.com/getluckys
 ummersa" target="_blank" style="color: rgb(248\, 128\, 63)\;"><strong>FlyS
 afair Get Lucky Summer</strong></a><span style="color: rgb(64\, 77\, 87)\;
 "> for announcements.</span></p><p><br></p><h3>THE EXPERIENCE</h3><p><br>
 </p><p>Get Lucky Summer West Coast is not just a concert – it’s the pe
 rfect summer day out for everyone:</p><p>✨ Arrive early\, set up your pi
 cnic spot and soak up the summer sunshine.</p><p>✨ Sing and dance to liv
 e performances from SA’s top artists as the sun sets over the West Coast
 .</p><p>✨ Treat yourself to gourmet food trucks\, coffee stalls\, and an
  ice-cold beer garden.</p><p>✨ Relax in a safe\, family-friendly space w
 ith loads of room to dance\, play and chill.</p><p><br></p><h3>LINE-UP 
 🎶</h3><p><strong>GOODLUCK</strong></p><p><strong>THE PARLOTONES</strong
 ></p><p><strong>BEN RODRIGUES</strong></p><p><strong>MAJOZI</strong></p><p
 >& DJS TBA</p><h3><br></h3><h3>EVENT DETAILS</h3><p>📍 <strong>Table Vie
 w Primary School Sports Fields</strong></p><p>📅 <strong>Saturday\, 13 D
 ecember 2025</strong></p><p>⏰ <strong>Gates open 14:00 | Music until 21:
 30</strong></p><p><br></p><p>Stage times will be released closer to the da
 te – follow our socials for updates!</p><p><br></p><h3>TICKETS 🎟️</
 h3><p><strong><em>BOOK NOW</em></strong></p><p><strong>GENERAL:</strong></
 p><p>👨‍👩‍👧‍👦 Family of 4 (discount): R250 (LAST TICKETS)
 </p><p>🐦 Early Bird: R250 (SOLD OUT)</p><p>🎟️ Phase 2: R295 (SOLD 
 OUT)</p><p>🔥 Final Phase: R385 (LIMITED)</p><p>👶 Kids U12: R160 (LIM
 ITED)</p><p>👶 Babies U2: FREE</p><p><br></p><h3>FOOD & DRINKS</h3><p>We
 ’ve got an epic line-up of gourmet food trucks\, barista coffee stands\,
  and an ice-cold summer bar so you can stay fuelled all afternoon. (No alc
 ohol may be brought in.)</p><p><br></p><h3>PARKING</h3><p>On-site parking 
 available\, but we recommend carpooling or rideshares for the smoothest ar
 rival.</p><p><br></p><h3>SAFETY</h3><p>All ages welcome! Anyone under 18 w
 ill receive a separate accreditation. IDs may be requested at the gate.</p
 ><p><br></p><p><br></p>
LOCATION:Fairway Road Table View\, Cape Town\, 7439
SUMMARY:FlySafair Get Lucky Summer - Tableview Primary Fields CT [ft GoodLu
 ck\,The Parlotones\, Ben Rodrigues & Majozi]
URL;VALUE=URI:https://www.howler.co.za/GLSWestCoast25
END:VEVENT
END:VCALENDAR
