BEGIN:VCALENDAR
VERSION:2.0
PRODID:icalendar-ruby
CALSCALE:GREGORIAN
METHOD:PUBLISH
BEGIN:VEVENT
DTSTAMP:20260419T195227Z
UID:016c9f8a-dd2e-4600-b0de-5bcf474790a4
DTSTART:20260424T170000
DTEND:20260424T235900
DESCRIPTION:<p><span style="color: rgb(12\, 16\, 20)\;">When icons shift cu
 lture\, the streets crown a new classic 🔥</span></p><p><br></p><p><span
  style="color: rgb(12\, 16\, 20)\;">adidas Originals x </span><a href="ht
 tps://www.instagram.com/focalistic/?hl=en" target="_blank" style="color: r
 gb(65\, 80\, 247)\;">@focalistic</a><span style="color: rgb(12\, 16\, 20)\
 ;"> FocaForum2000</span></p><p><br></p><p><span style="color: rgb(12\, 16
 \, 20)\;">A first of its kind. </span></p><p><br></p><p><span style="color
 : rgb(12\, 16\, 20)\;">Date: 24 April 2026</span></p><p><span style="color
 : rgb(12\, 16\, 20)\;">Venue: Jardown Building\, Pretoria CBD</span></p><p
 ><span style="color: rgb(12\, 16\, 20)\;">Time: 18:00</span></p><p><br></p
 ><p><strong>NB:</strong> Only the first <strong>800 guests</strong> will b
 e granted access to the venue. Thereafter\, entry will operate on a <stron
 g>1-out\, 1-in</strong> basis\, subject to venue capacity.</p><p><br></p><
 p>ROAR</p><p><br></p><p><br></p>
LOCATION:22 Johannes Ramokhoase St\, Pretoria Central\, Akasia\, 0002
SUMMARY:FOCA FORUM 2000
URL;VALUE=URI:https://www.howler.co.za/FOCAFORUM2000
END:VEVENT
END:VCALENDAR
