BEGIN:VCALENDAR
VERSION:2.0
PRODID:icalendar-ruby
CALSCALE:GREGORIAN
METHOD:PUBLISH
BEGIN:VEVENT
DTSTAMP:20260425T154137Z
UID:443cb8b5-ff99-4f7b-9931-90c5492251ee
DTSTART:20241227T060000
DTEND:20241231T180000
DESCRIPTION:<p><span style="color: rgb(0\, 0\, 0)\;">Welcome to the Fransch
 hoek 500 Ultra Cycling Bikepacking Gravel Cycle Event! This four-day cycli
 ng adventure is set to take place from the 28th of December\, and it promi
 ses to be an experience of a lifetime.</span></p><p><span style="color: rg
 b(0\, 0\, 0)\;">The route will take you through some of the most picturesq
 ue and awe-inspiring landscapes that the Western Cape has to offer. Starti
 ng in Franschhoek\, you will head down the Elgin Apple Valley\, passing th
 rough scenic vineyards and orchards before making your way to Stanford. Fr
 om there\, the route will take you on a long and winding journey around th
 e valley\, passing through small towns and villages and showcasing the nat
 ural beauty of the area.</span></p><p><span style="color: rgb(0\, 0\, 0)\;
 ">The final stretch of the route takes you over the famous Franschhoek Pas
 s\, offering breathtaking views of the surrounding mountains and valleys. 
 This challenging climb will test your stamina and endurance\, but the sens
 e of accomplishment you will feel at the top will make it all worth it.</s
 pan></p><p><br></p><p><a href="https://gravalist.com/franschhoek-500" targ
 et="_blank" style="color: rgb(118\, 79\, 219)\;">https://gravalist.com/fra
 nschhoek-500</a></p><p><br></p>
LOCATION:Franschhoek
SUMMARY:Franschhoek 500
URL;VALUE=URI:https://www.howler.co.za/Franschhoek-500-2024
END:VEVENT
END:VCALENDAR
