BEGIN:VCALENDAR
VERSION:2.0
PRODID:icalendar-ruby
CALSCALE:GREGORIAN
METHOD:PUBLISH
BEGIN:VEVENT
DTSTAMP:20260423T161408Z
UID:5457b694-8e64-437e-8173-d88d558edb3b
DTSTART:20231112T120000
DTEND:20231112T220000
DESCRIPTION:<p>Festival </p>
LOCATION:Plot 26\, R 563\, Krugersdorp\, Gauteng
SUMMARY:Friends of Amstel
URL;VALUE=URI:https://www.howler.co.za/friendsofamstel_
END:VEVENT
END:VCALENDAR
