BEGIN:VCALENDAR
VERSION:2.0
PRODID:icalendar-ruby
CALSCALE:GREGORIAN
METHOD:PUBLISH
BEGIN:VEVENT
DTSTAMP:20260422T010348Z
UID:23c49d7a-b496-41fa-ac04-dbb92c3ab31d
DTSTART:20251228T150000
DTEND:20251228T210000
DESCRIPTION:<h1><span>🌅 GET LUCKY SUMMER – BEACON ISLAND PLETT 2025</s
 pan></h1><p><strong>Sunday\, 28 December | The Lawns at Beacon Island</str
 ong></p><p><span>Plett’s favourite holiday summer tradition is back! 
 🎶✨ Get Lucky Summer returns to the iconic lawns of the Beacon Island 
 Hotel with another unforgettable </span><strong>Sunset Concert</strong><sp
 an> this holiday season. Gather your friends and family and experience the
  Garden Route’s most-loved live music series\, under golden skies with t
 he ocean at your feet.</span></p><p><br></p><h2><span>🎤 THE EXPERIENCE<
 /span></h2><p><span>This year\, we’re kicking things off in a big way wi
 th a </span><strong>massive lineup</strong><span> featuring:</span></p><ul
 ><li><strong>GoodLuck</strong><span> – South Africa’s iconic electroni
 c trio</span></li><li><strong>Will Linley</strong><span> – One of South 
 Africa's fastest rising stars</span></li><li><strong>Prime Circle</strong>
 <span> – SA Rock Legends</span></li><li><strong>Grassy Spark</strong><sp
 an> – Electrifying live band</span></li><li><strong>Easy Freak</strong><
 span> – Soulful hitmakers</span></li></ul><p><span>💥 PLUS: Look out f
 or our </span><strong>special TAKEOVER editions</strong><span> later in th
 e season – with </span><strong>Will Linley (14 Dec)</strong><span> and <
 /span><strong>Prime Circle (21 Dec)</strong><span> headlining their own ni
 ghts!</span></p><p><br></p><p><span>Expect world-class performances\, brea
 thtaking sunset views\, fully stocked bars\, delicious eats\, and a vibe t
 hat’s all about family\, friends\, and great music.</span></p><p><br></p
 ><h2><span>🎟 TICKETS</span></h2><p><span>Available online at </span><st
 rong>Howler</strong><span> (don’t wait – prices go up at the door!).</
 span></p><ul><li><strong>Family of 4</strong><span>– R220 (discounted & 
 limited) - family you have or family you choose</span></li><li><strong>Ear
 ly Bird</strong><span> – R240 (limited)</span></li><li><strong>Phase 2</
 strong><span> – R280 (limited)</span></li><li><strong>Main Sale General 
 Online</strong><span> – R360</span></li><li><strong>Kids U12</strong><sp
 an> – R200</span></li><li><strong>VIP (18+)</strong><span> – R550 (inc
 ludes VIP deck & VIP bar access)</span></li></ul><p><br></p><p><span>🎫 
 </span><strong>At the gate:</strong><span> G/A R380 | Kids R220 | VIP R550
 </span></p><p><br></p><p><em>*NOTE: Infants Under the age of 2 are FREE </
 em></p><p><em>ALL attendees Under the age of 18 are required to be accompa
 nied by an adult.</em></p><p><br></p><h2><span>🍹 FOOD & DRINKS</span></
 h2><p><span>Come early for sundowners and the best ocean views in Plett.</
 span></p><ul><li><span>Gourmet food from the Beacon Island’s award-winni
 ng restaurant</span></li><li><span>Fully stocked bars</span></li><li><span
 >Refreshing mocktails for non-drinkers</span></li><li><em>(Please note: No
  outside beverages permitted.)</em></li></ul><p><br></p><h2><span>🚗 PAR
 KING</span></h2><p><span>Street parking is limited - please carpool or wal
 k where possible. Additional parking available on the field near SPAR.</sp
 an></p><p><br></p><h2><span>🔒 SAFETY & ACCESS</span></h2><ul><li><stron
 g>All ages welcome</strong><span> (IDs will be checked at the door).</span
 ></li><li><strong>Under 18s will be accredited separately and must be acco
 mpanied by an adult.</strong></li><li><strong>VIP area strictly 18+</stron
 g><span> (babies permitted with parents if necessary).</span></li><li><spa
 n>Safety policies will be posted online and at the event.</span></li></ul>
 <p><span>✨ Don’t miss Plett’s most magical summer tradition. Sunset\
 , sea views\, live music\, and memories to last a lifetime.</span></p><p><
 span>👉 </span><strong>BOOK NOW on Howler!</strong></p><p><br></p><p><br
 ></p>
LOCATION:Beacon Island Hotel\, Beacon Isle Drive\, Plettenberg Bay 6600
SUMMARY: Get Lucky Summer Plett BI - GoodLuck & Grassy Spark (Edition 3)
URL;VALUE=URI:https://www.howler.co.za/GLS28Dec25
END:VEVENT
END:VCALENDAR
