BEGIN:VCALENDAR
VERSION:2.0
PRODID:icalendar-ruby
CALSCALE:GREGORIAN
METHOD:PUBLISH
BEGIN:VEVENT
DTSTAMP:20260423T155833Z
UID:6cc23154-d086-4795-a5e6-e298211ee321
DTSTART:20200413T180000
DTEND:20200413T185000
DESCRIPTION:<p><span style="background-color: rgb(245\, 245\, 245)\; color:
  rgb(64\, 77\, 87)\;">Daily workout with Spanish trainer\, Patry Jordan</s
 pan></p>
SUMMARY:Gym Virtual by Patry Jordan
URL;VALUE=URI:https://www.howler.co.za/gym-virtual-13-april
END:VEVENT
END:VCALENDAR
