BEGIN:VCALENDAR
VERSION:2.0
PRODID:icalendar-ruby
CALSCALE:GREGORIAN
METHOD:PUBLISH
BEGIN:VEVENT
DTSTAMP:20260424T190830Z
UID:24630d63-5e94-4b70-9e6e-e7c88649d4d8
DTSTART:20231231T150000
DTEND:20240101T020000
DESCRIPTION:<p>KISS ME AT MIDNIGHT - Cape Town's Electric NYE Dance Experie
 nce!</p><p><br></p><p><span style="color: rgb(36\, 36\, 36)\;">Come dance 
 away 2023 with us!!</span></p><p>H2O Party is famous for hosting one of th
 e country’s biggest New Year’s Eve celebrations over the past 11 years
  - This NYE\, H2O party will create an unforgettable New Year’s Eve expe
 rience and a night of magic under the H2O Party stars at Cape Town’s bes
 t outdoor event venue!</p><p><br></p><p>Featuring a line-up of SA's best a
 rtists across 2 sound stages together with international guest DJs\, globa
 l stars and Tomorrowland favourites - KRYDER and BJONES.</p><p><br></p><p>
 Expect world class production\, electric moments and the ultimate celebrat
 ion of music\, dance and connection.</p><p><br></p><p><br></p>
LOCATION:Van Schoorsdrif Road Philadelphia off N7\, Cape Town\, Western Cap
 e
SUMMARY:H2O NYE CAPE TOWN
URL;VALUE=URI:https://www.howler.co.za/H2ONYECT
END:VEVENT
END:VCALENDAR
