BEGIN:VCALENDAR
VERSION:2.0
PRODID:icalendar-ruby
CALSCALE:GREGORIAN
METHOD:PUBLISH
BEGIN:VEVENT
DTSTAMP:20260425T224142Z
UID:968cb865-6bef-4277-8b1f-61b9e18aac0d
DTSTART:20251101T190000
DTEND:20251102T020000
DESCRIPTION:<p>HALLOWEEN AT MONTE</p><p>SCARY R&B 𝗟𝗮 𝗥𝗼𝘀𝗮
  - 𝗠𝗼𝗻𝘁𝗲 𝗖𝗮𝘀𝗶𝗻𝗼.</p><p>Don't forget to pr
 e-book your tables. 𝗪𝗵𝗮𝘁𝘀𝗮𝗽𝗽 𝟬𝟲𝟬 𝟱𝟵
 𝟰 𝟯𝟯𝟮𝟴</p><p>Dress to impress\, bring your friends\, and le
 t’s make it a night to remember!</p><p><br></p><p>💃 Groove – Scary 
 R&B 🕺</p><p>Step into a night of sultry beats and smooth grooves with s
 ome Scary Sexy R&B vibes – this is the ultimate R&B experience.</p><p><b
 r></p><p>🎧 Live DJs spinning all your favorite hits</p><p>🍹 Drinks &
  vibes to match the mood</p><p>📍 Venue: La Rosa – Monte Casino</p><p>
 🗓️ Date: 01 November</p><p><br></p><p>Pre-book your tables. 𝗪𝗵
 𝗮𝘁𝘀𝗮𝗽𝗽 𝟬𝟲𝟬 𝟱𝟵𝟰 𝟯𝟯𝟮𝟴</p><p>
 Dress to impress\, bring your friends\, and let’s make it a night to rem
 ember!</p>
LOCATION:Shop 2\, Montecasino\, Montecasino Boulevard\, Fourways Randburg N
 orth 2055 ·
SUMMARY:Halloween at La Rosa
URL;VALUE=URI:https://www.howler.co.za/groove_halloween
END:VEVENT
END:VCALENDAR
