BEGIN:VCALENDAR
VERSION:2.0
PRODID:icalendar-ruby
CALSCALE:GREGORIAN
METHOD:PUBLISH
BEGIN:VEVENT
DTSTAMP:20260425T170452Z
UID:d52dce0b-bb20-47dc-befc-c246c3793ef9
DTSTART:20190321T120000
DTEND:20190321T153000
DESCRIPTION:<h1><strong>HAPPY SOPE DAY!</strong></h1><p><br></p><p>BTS rapl
 ine members JHOPE & SUGA celebrate their birthdays in February and March r
 espectively! Let's celebrate with ARMY.</p><p>BTSARMYZA x WIBLASH are host
 ing a fun-filled afternoon with you!</p><p>Come and enjoy:</p><ul><li>Hwag
 ae Merch Market</li><li>SOPE Photowall Experience</li><li>SOPE Cupsleeve</
 li><li>Love Yourself - Speak Yourself - Sao Paulo Watch Party</li></ul><p>
 <br></p><p>Wear your merch\, bring your ARMY bombs and prepare to party!</
 p><p>Tickets: R120 (R129.15 including admin fees)</p><p>Venue: Roodebloem 
 Studios\, 27 Roodebloem Road\, Woodstock\, Cape Town</p><p>For queries: Co
 ntact BTSARMYZA on <a href="https://twitter.com/BTSArmyZA" target="_blank"
 >twitter</a> or <a href="https://www.instagram.com/btsarmyza/" target="_bl
 ank">instagram</a> / Wiblash on <a href="https://twitter.com/wiblash_" tar
 get="_blank">twitter</a> or <a href="https://www.instagram.com/wiblash_/" 
 target="_blank">instagram</a></p>
LOCATION:27 Roodebloem Road\, Woodstock\, Western Cape\, 7925
SUMMARY:Happy SOPE Day!
URL;VALUE=URI:https://www.howler.co.za/happysopeday
END:VEVENT
END:VCALENDAR
