BEGIN:VCALENDAR
VERSION:2.0
PRODID:icalendar-ruby
CALSCALE:GREGORIAN
METHOD:PUBLISH
BEGIN:VEVENT
DTSTAMP:20260423T132947Z
UID:b861afdc-66d0-4861-a799-ad5e404083b9
DTSTART:20230917T110000
DTEND:20230917T220000
DESCRIPTION:<p class="ql-align-justify"><strong style="color: rgb(26\, 26\,
  26)\;">THE HEINEKEN ALL-INVITATIONAL INANDA POLO PROMISES YET ANOTHER EPI
 C AND GLAMOROUS SHOWDOWN AT THE INANDA POLO CLUB.</strong></p><p class="ql
 -align-justify"><strong> </strong></p><p class="ql-align-justify">The Ina
 nda Club has been abuzz with polo action all year round and yet\, the bigg
 est event is still upon us. The Heineken® All-Invitational Inanda Polo in
  association with QMS Medicosmetics\, L'OR and Tanqueray has a great deal 
 in store at this spectacular showdown\, featuring mixed doubles teams each
  consisting of 2 ladies and 2 men players in this exciting tournament form
 at.</p><p class="ql-align-justify"> </p><p class="ql-align-justify">Heine
 ken®’s collaboration with the Inanda Club for the match is a celebratio
 n of the diversity and inclusion embraced by the polo community and sports
  in general. The event celebrates polo as one of the few sports which allo
 ws women to compete alongside men at the highest level.</p><p class="ql-al
 ign-justify"><strong style="color: rgb(26\, 26\, 26)\;"> </strong></p><p 
 class="ql-align-justify"><strong style="color: rgb(26\, 26\, 26)\;">While 
 the preparations are underway for the action on the field\, Heineken®\, Q
 MS Medicosmetics\, L'OR\, Tanqueray and the Inanda Club have promised a sp
 ectacular social day out filled with thrilling sport\, high fashion and of
  course delicious food and drinks.</strong></p><p class="ql-align-justify"
 ><strong style="color: rgb(26\, 26\, 26)\;"> </strong></p><p class="ql-al
 ign-justify"><strong style="color: rgb(26\, 26\, 26)\;">To secure your sea
 t\, </strong>view ticket packages currently available. Follow the Inanda C
 lub across their social media pages to learn more about opportunities and 
 activations leading up to the Heineken All-Invitational Inanda Polo\, in a
 ssociation with QMS Cosmetics\, L'OR and Tanqueray.</p><p class="ql-align-
 justify"> </p><p class="ql-align-justify"><span style="color: red\;"> </
 span></p><p class="ql-align-center"><strong>Not For Persons Under The Age 
 Of 18.</strong></p><p class="ql-align-center"><br></p><p class="ql-align-c
 enter"><br></p><p><strong style="color: black\;">Sunday 17th September 202
 3</strong></p><p><span>11h00 | Gates Open</span></p><p><span>11h30 | Match
  1</span></p><p><span>12h30 | Match 2</span></p><p><span>13h30 | Match - P
 late</span></p><p><span>14h45 | Player Intro & Pony Parade</span></p><p><s
 pan>15h00 | Match - Final</span></p><p><span>15h30 | Half Time Heineken Di
 vot Stomp</span></p><p><span>16h00 | Mercedes-Benz Horse vs Machine</span>
 </p><p><span>16h30 | Prize Giving</span></p><p><br></p><p><br></p>
LOCATION:Inanda Club\, Forrest Road & 6th Avenue\, Inanda\, Sandton\, Johan
 nesburg
SUMMARY:Heineken All-Invitational Inanda Polo
URL;VALUE=URI:https://www.howler.co.za/inandapolo
END:VEVENT
END:VCALENDAR
