BEGIN:VCALENDAR
VERSION:2.0
PRODID:icalendar-ruby
CALSCALE:GREGORIAN
METHOD:PUBLISH
BEGIN:VEVENT
DTSTAMP:20260425T225545Z
UID:1bfd84f8-ee4e-417c-ba99-cd832fba62b1
DTSTART:20220904T110000
DTEND:20220904T200000
DESCRIPTION:<p class="ql-align-justify"><strong style="color: rgb(26\, 26\,
  26)\;">THE HEINEKEN LADIES POLO INVITATIONAL PROMISES YET ANOTHER EPIC AN
 D GLAMOROUS SHOWDOWN AT THE INANDA POLO CLUB.</strong></p><p class="ql-ali
 gn-justify"><strong> </strong></p><p class="ql-align-justify">The Inanda 
 Club has been abuzz with polo action all year round and yet\, the biggest 
 event is still upon us. The Heineken® Ladies Polo Invitational in associa
 tion with QMS Medicosmetics and Tanqueray has a great deal in store at thi
 s spectacular showdown\, featuring ladies front and foremost as we conclud
 e Women’s Month. This all-female invitational match of international pla
 yers will showcase the world star quality of women’s sports in the eques
 trian field. The epic clash is between invited ‘high goal’ female play
 ers from England\, taking on an All Africa team of equally matched ladies 
 on Sunday\, September 4\, 2022.</p><p class="ql-align-justify"> </p><p cl
 ass="ql-align-justify">This event hosts some of the highest level of ladie
 s polo and looks to become a popular instalment on the annual polo calenda
 r in Africa. Heineken®’s collaboration with the Inanda Club for the mat
 ch is a celebration of the diversity and inclusion embraced by the polo co
 mmunity and sports in general. The polo match celebrates femininity findin
 g its place in a realm that has often been type casted as a masculine aren
 a. These women are excellent ambassadors of ‘Taking up Space’ by embra
 cing one’s interests while celebrating their identity without any repres
 sion.</p><p class="ql-align-justify"><br></p><p class="ql-align-justify"><
 span style="background-color: white\;">As one of the greatest female sport
 s star’s tennis player\, Serena Williams once said\, “Every woman's su
 ccess should be an inspiration to another. We're strongest when we cheer e
 ach other on.” Ladies polo is rooted in this sense of support and camara
 derie\, celebrating womanhood in all its forms. From the sports field\, to
  the celebration of femininity in the fashion on display at the Inanda gro
 unds\, we will be embracing and celebrating womanhood.</span></p><p class=
 "ql-align-justify"><strong style="color: rgb(26\, 26\, 26)\;"> </strong><
 /p><p class="ql-align-justify"><strong style="color: rgb(26\, 26\, 26)\;">
 While the preparations are underway for the action on the field\, Heineken
 ®\, QMS Medicosmetics\, Tanqueray and the Inanda Club have promised glitz
 \, glam and everything nice for guests cheering the remarkable ladies on t
 he day.</strong></p><p class="ql-align-justify"><strong style="color: rgb(
 26\, 26\, 26)\;"> </strong></p><p class="ql-align-justify"><strong style=
 "color: rgb(26\, 26\, 26)\;">To secure your seat\, </strong>view ticket pa
 ckages currently available. Follow the Inanda Club across their social med
 ia pages to learn more about opportunities and activations leading up to t
 he Heineken Ladies Polo Invitational\, in association with QMS Cosmetics a
 nd Tanqueray.</p><p class="ql-align-justify"> </p><p class="ql-align-just
 ify"><span style="color: red\;"> </span></p><p class="ql-align-center"><s
 trong>Not For Persons Under The Age Of 18.</strong></p><p class="ql-align-
 center"><br></p><p class="ql-align-center"><br></p><p><strong style="color
 : black\;">Sunday 4th September 2022</strong></p><p><span style="color: bl
 ack\;">11h00 | Gates Open</span></p><p><span style="color: black\;">13h30 
 | Match 1</span></p><p><span style="color: black\;">14h30 | Match 2</span>
 </p><p><span style="color: black\;">15h45 | Player Intro & Pony Parade</sp
 an></p><p><span style="color: black\;">16h00 | England vs Africa Invitatio
 nal Match</span></p><p><span style="color: black\;">16h30 | Half Time Hein
 eken Red Star Divot Stomp</span></p><p><span style="color: black\;">17h00 
 | Horse vs Machine</span></p><p><span style="color: black\;">17h30 | Prize
  Giving</span></p><p><span style="color: black\;">20h00 | Event Closes</sp
 an></p>
LOCATION:Inanda Club\, Forrest Road & 6th Avenue\, Inanda\, Sandton\, Johan
 nesburg
SUMMARY:Heineken Ladies Polo Invitational 2022
URL;VALUE=URI:https://www.howler.co.za/ladiespolo
END:VEVENT
END:VCALENDAR
