BEGIN:VCALENDAR
VERSION:2.0
PRODID:icalendar-ruby
CALSCALE:GREGORIAN
METHOD:PUBLISH
BEGIN:VEVENT
DTSTAMP:20260422T164121Z
UID:ab9014f6-f105-40dd-9c07-824772a8171b
DTSTART:20240727T200000
DTEND:20240728T040000
DESCRIPTION:<p>You spoke\, and we listened. Back by popular demand\, we pre
 sent HØRIZØN Warehouse Edition. </p><p><br></p><p>This year\,  Defective
  Studios \, a brand new premium warehouse venue\, located in Paarden Eilan
 d (10 minutes from the CBD) will be our new home.</p><p><br></p><p>𝗟
 𝗶𝗻𝗲 𝗨𝗽:</p><p>𝗛𝗲𝗮𝗱𝗹𝗶𝗻𝗲𝗿s</p><p>H
 eadroom </p><p>Geometric Flux </p><p>Dave Mac </p><p><br></p><p>*Supportin
 g acts*</p><p>Nexon</p><p>Broken switch</p><p>Roommush</p><p>Dark Night</p
 ><p>Jaded </p><p><br></p><p><br></p><p>𝗧𝗶𝗰𝗸𝗲𝘁𝘀 𝗦
 𝗮𝗹𝗲𝘀:</p><p>🎟️Warehouse combo = 2 for R200</p><p>🎟️G
 roup combo = 4 for R300 (very limited)</p><p>🎟️Early birds = R150</p>
 <p>🎟️Last birds = R200</p><p>🎟️ Vip tickets = R250 (very limited
 )</p><p><br></p><p>(Limited door sales if available  = R250)</p><p><br></p
 ><p><br></p><p><br></p><p> *Safety* </p><p>Right of admission reserved. At
 tendees must be 18 years or older. No ID = No Entry.</p><p><br></p><p>The 
 following are not permitted: 𝗮𝗹𝗰𝗼𝗵𝗼𝗹\, 𝗶𝗹𝗹
 𝗲𝗴𝗮𝗹 𝘄𝗲𝗮𝗽𝗼𝗻𝘀\, 𝗶𝗹𝗹𝗲𝗴𝗮
 𝗹 𝘀𝘂𝗯𝘀𝘁𝗮𝗻𝗰𝗲𝘀\, 𝗴𝗹𝗮𝘀𝘀\, 
 𝗳𝗶𝗿𝗲𝘄𝗼𝗿𝗸𝘀. 𝗣𝗮𝗿𝘁𝗶𝗰𝗶𝗽𝗮
 𝘁𝗶𝗼𝗻 𝗶𝗻 𝘁𝗵𝗶𝘀 𝗲𝘃𝗲𝗻𝘁 𝗶𝘀 
 𝗲𝗻𝘁𝗶𝗿𝗲𝗹𝘆 𝗮𝘁 𝗼𝘄𝗻 𝗿𝗶𝘀𝗸. 
 𝗧𝗵𝗲 𝗼𝗿𝗴𝗮𝗻𝗶𝘀𝗲𝗿𝘀 𝗮𝗻𝗱 𝘃
 𝗲𝗻𝘂𝗲 𝗮𝗰𝗰𝗲𝗽𝘁 𝗻𝗼 𝗿𝗲𝘀𝗽𝗼
 𝗻𝘀𝗶𝗯𝗶𝗹𝗶𝘁𝘆 𝘄𝗵𝗮𝘁𝘀𝗼𝗲𝘃𝗲
 𝗿 𝗳𝗼𝗿 𝗶𝗻𝗷𝘂𝗿𝘆\, 𝗱𝗲𝗮𝘁𝗵\, 𝗹
 𝗼𝘀𝘀 𝗼𝗿 𝗱𝗮𝗺𝗮𝗴𝗲 𝗼𝗳 𝗮𝗻𝘆 𝗻
 𝗮𝘁𝘂𝗿𝗲 𝘁𝗼 𝗽𝗲𝗿𝘀𝗼𝗻𝘀\, 𝘃𝗲𝗵
 𝗶𝗰𝗹𝗲𝘀 𝗼𝗿 𝗯𝗲𝗹𝗼𝗻𝗴𝗶𝗻𝗴𝘀</p>
LOCATION:7 Section Street\, Paarden Eiland 
SUMMARY:HØRIZØN Warehouse Edition 
URL;VALUE=URI:https://www.howler.co.za/HORIZONWAREHOUSE2
END:VEVENT
END:VCALENDAR
