BEGIN:VCALENDAR
VERSION:2.0
PRODID:icalendar-ruby
CALSCALE:GREGORIAN
METHOD:PUBLISH
BEGIN:VEVENT
DTSTAMP:20260422T170743Z
UID:65fa1d99-6bf4-42a5-9389-c6c0ac5edb19
DTSTART:20231203T130000
DTEND:20231204T010000
DESCRIPTION:<p>an event that caters to house music lovers of all shapes\, c
 olours & energies. a space to squeak some tekkies and carelessly be yourse
 lf.</p><p>the sunroom is a celebration of the sun and a welcoming of the n
 ew season\, bring your hats\; sunnies & bright colours!</p><p><br></p><p>w
 elcome home\, china.</p><p>house it\, bru :)</p>
LOCATION:71 Troupant Avenue\, Fourways\, Johannesburg\, 2191
SUMMARY:House It Bru presents The Sunroom
URL;VALUE=URI:https://www.howler.co.za/hibthesunroom
END:VEVENT
END:VCALENDAR
