BEGIN:VCALENDAR
VERSION:2.0
PRODID:icalendar-ruby
CALSCALE:GREGORIAN
METHOD:PUBLISH
BEGIN:VEVENT
DTSTAMP:20260423T161541Z
UID:d378586b-0820-4d14-85cd-ccac6ff4cc5c
DTSTART:20251206T180000
DTEND:20251206T235900
DESCRIPTION:<p>We are bringing back proper house parties back.</p><p><br></
 p><p><br></p><p>This is where the night comes alive. A place of energy\, f
 reedom\, and unforgettable vibes\, Step in\, feel the rhythm\, and lose yo
 urself in pure euphoria.</p>
LOCATION:Glenda’s guest suite
SUMMARY:House of Euphoria
URL;VALUE=URI:https://www.howler.co.za/houseofeuphoriaza
END:VEVENT
END:VCALENDAR
