BEGIN:VCALENDAR
VERSION:2.0
PRODID:icalendar-ruby
CALSCALE:GREGORIAN
METHOD:PUBLISH
BEGIN:VEVENT
DTSTAMP:20260419T131347Z
UID:54afbbc3-42e8-44ec-908c-e8afde112724
DTSTART:20241102T090000
DTEND:20241102T140000
DESCRIPTION:<p><span style="color: rgb(64\, 77\, 87)\;">Join Mpoomy Ledwaba
 \, founder of Wisdom & Wellness\, on her How Did We Get Here? book tour\, 
 where she opens up about her journey of self-discovery\, personal growth\,
  and healing. Through her powerful story\, Mpoomy normalizes talking about
  the shameful and hurtful things we often keep hidden. In this intimate ex
 perience\, she reflects on her challenges\, triumphs\, and the transformat
 ive power of faith. Discover how her story of resilience can inspire you t
 o embrace your truth\, find purpose\, and heal generations to come.</span>
 </p>
LOCATION:Ohm St\, Klipfontein 12-lr\, Edenvale\,1600
SUMMARY:How Did We Get Here Book Tour Johannesburg 
URL;VALUE=URI:https://www.howler.co.za/howdidwegetherebooktourjhb
END:VEVENT
END:VCALENDAR
