BEGIN:VCALENDAR
VERSION:2.0
PRODID:icalendar-ruby
CALSCALE:GREGORIAN
METHOD:PUBLISH
BEGIN:VEVENT
DTSTAMP:20260423T153236Z
UID:642b422f-b116-4cde-87be-bd4d0b595ebe
DTSTART:20260426T130000
DTEND:20260426T230000
DESCRIPTION:<p><span>House your Sunday in style 🌅🎶 at Beerpark Bedfor
 dview for an unforgettable sunset session. Expect nothing but pure house m
 usic energy as a powerhouse lineup featuring Nastee Nev\, Exte C\, Soulfre
 akah\, DJ Christos\, Lady Sakhe\, and Ralf Gum takes you on a journey from
  day into night 🔥</span></p><p><br></p><p><span>Great music 🎧\, grea
 t vibes ✨\, and the perfect way to close off your weekend — this is wh
 ere Sundays come alive 🕺🏽💃🏽</span></p><p><br></p><p><span>Book
 ings via Howler 🎟️</span></p><p><br></p><p><br></p>
LOCATION:43 Van Buuren Road\, Bedfordview
SUMMARY:HYS - Beer Bar Bedford 
URL;VALUE=URI:https://www.howler.co.za/HYS2B
END:VEVENT
END:VCALENDAR
