BEGIN:VCALENDAR
VERSION:2.0
PRODID:icalendar-ruby
CALSCALE:GREGORIAN
METHOD:PUBLISH
BEGIN:VEVENT
DTSTAMP:20260424T170412Z
UID:92b85fe9-547d-4e2f-a105-49b725e4759a
DTSTART:20200314T200000
DTEND:20200315T020000
DESCRIPTION:<p><span style="background-color: rgb(255\, 255\, 255)\; color:
  rgb(29\, 33\, 41)\;">We throw some amazing parties but this one is absolu
 tely ICONIC! We'll See you there! </span></p><p><br></p><p><span style="ba
 ckground-color: rgb(255\, 255\, 255)\; color: rgb(29\, 33\, 41)\;">▁▁
 ▁▁▁▁▁▁▁▁▁▁▁▁▁▁</span></p><p><br></p><p><span s
 tyle="background-color: rgb(255\, 255\, 255)\; color: rgb(29\, 33\, 41)\;"
 >🔥 Featuring: 🔥</span></p><p><br></p><p><a href="https://www.faceboo
 k.com/austincassimmusic/" target="_blank" style="background-color: rgb(255
 \, 255\, 255)\; color: rgb(56\, 88\, 152)\;">Austin Cassim</a></p><p><a hr
 ef="https://www.facebook.com/djbhavs/" target="_blank" style="background-c
 olor: rgb(255\, 255\, 255)\; color: rgb(56\, 88\, 152)\;">BHAVS</a></p><p>
 <a href="https://www.facebook.com/djvingroovin/" target="_blank" style="ba
 ckground-color: rgb(255\, 255\, 255)\; color: rgb(56\, 88\, 152)\;">Vin Gr
 oovin</a></p><p><a href="https://www.facebook.com/djrikay/" target="_blank
 " style="background-color: rgb(255\, 255\, 255)\; color: rgb(56\, 88\, 152
 )\;">Rikay</a></p><p><br></p><p><span style="background-color: rgb(255\, 2
 55\, 255)\; color: rgb(29\, 33\, 41)\;">▁▁▁▁▁▁▁▁▁▁▁
 ▁▁▁▁▁</span></p><p><br></p><p><span style="background-color: rgb
 (255\, 255\, 255)\; color: rgb(29\, 33\, 41)\;">Tickets & tables available
  from:</span></p><p><a href="https://l.facebook.com/l.php?u=http%3A%2F%2Fw
 ww.howler.co.za%2Fafterparties%3Ffbclid%3DIwAR3-GvCHmo7t7dVnBfIOy0JojT2OKB
 wShmA4f-s-FEhAAyEpLnu-OFLO95U&h=AT2RZGXPLv4vrlKW1ZFP1fblrAeelygJzp_36LzlQa
 Cc0Os71LSjXYVUr4Onhx--5Nx6YgcGn1Oc10UdTHxhk80KUY-uj6WBhQUIfa0WlQfjIyZwYNT4
 OSmVYClemFdRxoAe8O7QWA" target="_blank" style="background-color: rgb(255\,
  255\, 255)\; color: rgb(56\, 88\, 152)\;">www.howler.co.za/afterparties</
 a><span style="background-color: rgb(255\, 255\, 255)\; color: rgb(29\, 33
 \, 41)\;"> 🎟</span></p><p><br></p><p><span style="background-color: rgb
 (255\, 255\, 255)\; color: rgb(29\, 33\, 41)\;">Table booking types:</span
 ></p><p><span style="background-color: rgb(255\, 255\, 255)\; color: rgb(2
 9\, 33\, 41)\;">VIP Table Booking - Includes entrance for 4\,  </span></p>
 <p><span style="background-color: rgb(255\, 255\, 255)\; color: rgb(29\, 3
 3\, 41)\;">1 of the following standard bottles (Cruz vodka\, Beefeater\, J
 ameson\, Jose Cuervo\, Jagermeister) & 8 Mixers</span></p><p><br></p><p><s
 pan style="background-color: rgb(255\, 255\, 255)\; color: rgb(29\, 33\, 4
 1)\;">VVIP Table Booking - Includes entrance for 4\, 1 of the following pr
 emium bottles (Ciroc\, Belvedere\, Hendricks. Hennessy vs) & 8 mixers</spa
 n></p><p><br></p><p><span style="background-color: rgb(255\, 255\, 255)\; 
 color: rgb(29\, 33\, 41)\;">Right Of Admission Reserved</span></p><p><span
  style="background-color: rgb(255\, 255\, 255)\; color: rgb(29\, 33\, 41)\
 ;">R.O.A.R</span></p><p><br></p><p><span style="background-color: rgb(255\
 , 255\, 255)\; color: rgb(29\, 33\, 41)\;">For infos\, and Booth bookings 
 please mail:</span></p><p><span style="background-color: rgb(255\, 255\, 2
 55)\; color: rgb(29\, 33\, 41)\;">info@spicedproductions.co.za</span></p>
LOCATION:160 Jan Smuts Avenue\, Rosebank\, Gauteng
SUMMARY:Iconic - Sumo Nightclub
URL;VALUE=URI:https://www.howler.co.za/iconic2020
END:VEVENT
END:VCALENDAR
