BEGIN:VCALENDAR
VERSION:2.0
PRODID:icalendar-ruby
CALSCALE:GREGORIAN
METHOD:PUBLISH
BEGIN:VEVENT
DTSTAMP:20260420T143429Z
UID:1b3b6bdf-cc6b-4905-aa16-d6be7106acc0
DTSTART:20220305T120000
DTEND:20220305T230000
DESCRIPTION:<p>Its Personal Picnic 2022</p>
LOCATION:Edgewood Avenue &\, Melrose St\, Melrose\, Johannesburg\, 2000\, S
 outh Africa
SUMMARY:Its Personal Picnic 
URL;VALUE=URI:https://www.howler.co.za/Itspersonalpicnicmarch2022
END:VEVENT
END:VCALENDAR
