BEGIN:VCALENDAR
VERSION:2.0
PRODID:icalendar-ruby
CALSCALE:GREGORIAN
METHOD:PUBLISH
BEGIN:VEVENT
DTSTAMP:20260422T203704Z
UID:f50fb23f-1932-4932-82ff-66a7695a57b1
DTSTART:20241223T200000
DTEND:20241223T210000
DESCRIPTION:<p>Be ready to join Jbay Rocks for a night of South African pri
 de as Bok van Blerk takes the stage. Experience Bok's electrifying energy 
 as he performs his hit song\, "Ons Vir Jou Suid Afrika"\, as well as many 
 other beloved classics.</p><p><br></p><p>We will also have DJ's perform be
 fore and after Bok van Blerk\, keeping the energy alive throughout the nig
 ht\, this is an event you won't want to miss!</p><p><br></p><h4>Konsert In
 formasie:</h4><p>Deure Oop: 6nm</p><p>Resident DJ: 7nm - 8nm</p><p>Bok van
  Blerk: 8nm - 9nm</p><p>Resident DJ: 9nm - 12vm</p><p><br></p><p><strong>O
 nder 18's:</strong> </p><p>Hierdie show is n familie konsert en dit betek
 en dat onder-18's welkom is\, maar slegs as met ouerlike toesig. Dit betek
 en ma en/of pa.</p><p><br></p><p><strong>Webtuiste</strong>:</p><p><a href
 ="https://organisers.howler.co.za/organisers/4174/events/www.jbayrocks.co.
 za" target="_blank" style="color: rgb(118\, 79\, 219)\;">jbayrocks.co.za</
 a></p><p><br></p>
LOCATION:30 Diaz Road\, Jeffrey’s Bay\, Eastern Cape
SUMMARY:Jbay Rocks presents Bok van Blerk
URL;VALUE=URI:https://www.howler.co.za/Jbay-Rocks-presents-Bok-van-Blerk
END:VEVENT
END:VCALENDAR
