BEGIN:VCALENDAR
VERSION:2.0
PRODID:icalendar-ruby
CALSCALE:GREGORIAN
METHOD:PUBLISH
BEGIN:VEVENT
DTSTAMP:20260421T082627Z
UID:8c30390e-21a8-4a32-b5bc-74de8157bbba
DTSTART:20251205T120000
DTEND:20251205T200000
DESCRIPTION:<p> A Christian concert </p>
LOCATION:374 Boundary Rd North Riding AH Randburg 2162
SUMMARY:Jesus and friends first phase tickets 
URL;VALUE=URI:https://www.howler.co.za/jesusandfriendsnight
END:VEVENT
END:VCALENDAR
