BEGIN:VCALENDAR
VERSION:2.0
PRODID:icalendar-ruby
CALSCALE:GREGORIAN
METHOD:PUBLISH
BEGIN:VEVENT
DTSTAMP:20260421T093216Z
UID:542c60af-e99a-4b5a-9174-c5bb0c43fef4
DTSTART:20260321T120000
DTEND:20260321T220000
DESCRIPTION:<p>We're excited to bring you another top notch event\, with ne
 xt level music\, ice cold drinks and delicious food.</p><p><br></p><p>We
 ’ve partnered with Kumin & Khords\, Nabygelegen and HW Events for this e
 vent. Tickets are limited to 350 to provide an intimate\, enjoyable & memo
 rable experience.</p><p><br></p><p>Doors open at 11:00\, music starts 12:0
 0.</p><p><br></p><p>The fine print:</p><p><br></p><p>This is a strictly ov
 er 18's event. You will not be refunded if you purchase a ticket and are u
 nder age. We will be asking for ID’s.</p><p><br></p><p>Participation in 
 this event is entirely at own risk. We (Juiced\, Kumin&Khordes\, HW Events
  and Nabygelegen) accept no responsibility whatsoever for injury\, death\,
  loss or damage of any nature to persons\, vehicles or belongings\, even i
 n the case of negligence. Due care has been taken to make this event safe 
 and secure. There will be photographs taken at the venue throughout the ev
 ent: by entering you allow organizers to make use of and publish any foota
 ge taken on the day.</p><p><br></p><p>R.O.A.R</p><p><br></p>
LOCATION:Nabygelegen Private Cellar\, Bovlei Divisional Road\, Wellington\,
  7655
SUMMARY:JUICED
URL;VALUE=URI:https://www.howler.co.za/picnic_beats21
END:VEVENT
END:VCALENDAR
