BEGIN:VCALENDAR
VERSION:2.0
PRODID:icalendar-ruby
CALSCALE:GREGORIAN
METHOD:PUBLISH
BEGIN:VEVENT
DTSTAMP:20260419T130353Z
UID:5d6f2fb9-3646-4107-8001-13b8fce3ce7e
DTSTART:20260517T110000
DTEND:20260517T143000
DESCRIPTION:<p><span>💥 K-Pop Takeover Is Coming To Cape Town! 💥</span
 ></p><p><br></p><p><span>Get ready for the loudest\, brightest\, most high
 -energy K-Pop party the city has ever seen. This isn’t just another day 
 out—this is a full-scale K-Culture explosion taking over the dance floor
 .</span></p><p><br></p><p><span>Expect a day packed with:</span></p><p><sp
 an>🔥 Amazing K-Pop Performers\, High-Energy Dancers & DJ's</span></p><p
 ><span>🎶 The Biggest K-Pop Anthems</span></p><p><span>🎤 Immersive Pr
 oduction\, Fan Chants\, Crazy Atmosphere</span></p><p><span>💥 Special F
 X Moments\, Light Shows & Special Crowd Moments</span></p><p><br></p><p><s
 pan>This is not your average event. K-Pop Takeover is where fandom energy 
 meets party chaos—where performance vibes meet club culture\, and where 
 every drop hits like a comeback teaser.</span></p><p><br></p><p><strong>Da
 te: </strong><span>17th May 2026</span></p><p><strong>Venue: </strong><spa
 n>District\, 61c Harrington St\, District Six\, Cape Town\, 7925\, South A
 frica</span></p><p><strong>Time:</strong><span> 11am - 2.30pm</span></p><p
 ><strong>Last Entry: </strong><span>12.00pm </span></p><p><br></p><p><span
  class="ql-cursor">﻿</span>All Ages Welcome (4+)</p><p><br></p><p><span>
 Any under 18s must be accompanied by an Adult 18+ (For any questions about
  this please check the contact section below) </span></p><p><br></p><p><st
 rong>IMPORTANT INFO:</strong></p><ul><li><span>In order to provide the bes
 t experience possible\, we ask that everyone requiring the use of accessib
 ility facilities to get in touch with the venue directly - Districtevents@
 harringtonstreet.co.za (Please do not contact the venue regarding any tick
 et issues) </span></li><li><span>Everyone who is attending the event will 
 need to purchase a ticket</span></li><li><span>No external food or drinks 
 can be brought into the venue</span></li><li><span>As this is a live event
 \, the use of flashing lights and loud music should be considered when buy
 ing a ticket. Ear defenders may be recommended for young children. </span>
 </li><li><span>The Artists Pictured/Listed In Our Event Artwork Are Not Pe
 rforming </span></li><li><span>The minimum age for this event is 4 years o
 ld. </span></li><li><span>There are no baby/children changing facilities a
 t the venue </span></li></ul><p><br></p><p><strong>CONTACT US:</strong></p
 ><ul><li><span>Please contact our Comms Team: events@likeit-loveit.com wit
 h any questions you have. </span></li></ul><p><span>For new customers plea
 se include\; Your Full Name / Contact Number + The Event Name / Date / Loc
 ation. </span></p><p><span>For existing customers please also include your
  Booking Reference Number</span></p><p><span>Our Comms Team is based in th
 e UK & aim to respond to all enquiries within 48 hours (excluding weekends
  & UK public holidays). </span></p><p><br></p>
LOCATION:61 Harrington Street\, Cape Town\, South Africa
SUMMARY:K-Pop Takeover Is Coming To Cape Town!
URL;VALUE=URI:https://www.howler.co.za/K-PopTakeoverCT2
END:VEVENT
END:VCALENDAR
