BEGIN:VCALENDAR
VERSION:2.0
PRODID:icalendar-ruby
CALSCALE:GREGORIAN
METHOD:PUBLISH
BEGIN:VEVENT
DTSTAMP:20260421T081014Z
UID:8d2fc55a-1e9e-40ed-88f2-ac53c25c4e64
DTSTART:20230603T200000
DTEND:20230603T230000
DESCRIPTION:<p><strong>Gary Morris</strong>: Samplers\, Drum machines >>htt
 ps://hoorayface.bandcamp.com/</p><p><br></p><p>Gary Morris is from and liv
 es in Cape Town and makes music under different names\, as well as his own
 .</p><p><br></p><p><strong>Kurt Diedericks</strong>: Drums\, keyboard >> h
 ttps://www.instagram.com/kumodi_music/</p><p><br></p><p><span style="color
 : rgb(34\, 34\, 34)\;">Kumodi is the alias of Cape-Town-born drummer\, Kur
 t Diedericks. He began his career stage-performing with Goema-composer Mac
  McKenzie at age 15 and has played with some of South Africa’s biggest a
 rtists and exports like Sannie Fox\, Freshly Ground\, PHFAT\, and Nonku Ph
 iri. Choral and jazz harmonies and psychedelics influence his broad-rangin
 g musical explorations as a session musician\, composer\, and most recentl
 y\, electronic producer and DJ. Paying particular attention to rhythm and 
 harmony\, he plays soulful and sometimes challenging electronic-textured s
 oundscapes.</span></p><p><br></p><p><strong>DJ Paddy: </strong>From the bo
 xing ring to the DJ booth\, DJ Paddy will play some soulful and groovy sel
 ections following the live performance.</p>
LOCATION:74 New Church St\, Tamboerskloof\, Cape Town\, 8001
SUMMARY:Kumodi x Gary Morris Live
URL;VALUE=URI:https://www.howler.co.za/kumodi-garymorris-live
END:VEVENT
END:VCALENDAR
