BEGIN:VCALENDAR
VERSION:2.0
PRODID:icalendar-ruby
CALSCALE:GREGORIAN
METHOD:PUBLISH
BEGIN:VEVENT
DTSTAMP:20260421T094521Z
UID:2f82eef9-2920-4de8-8f69-3830b7058b23
DTSTART:20260214T150000
DTEND:20260215T020000
DESCRIPTION:<p>An exclusive Valentine’s Day event. Curated for the single
 \, the daters and the lovers. Tickets are limited.</p><p><br></p><p>Sorah 
 x L&T Events</p>
LOCATION:99 juta street\, Braamfontein.
SUMMARY:L’amour
URL;VALUE=URI:https://www.howler.co.za/Lamour
END:VEVENT
END:VCALENDAR
