BEGIN:VCALENDAR
VERSION:2.0
PRODID:icalendar-ruby
CALSCALE:GREGORIAN
METHOD:PUBLISH
BEGIN:VEVENT
DTSTAMP:20260424T120056Z
UID:b940be00-4743-430a-8cc2-814769b3bd34
DTSTART:20230922T200000
DTEND:20230923T000000
DESCRIPTION:<p>BRYNN | Ohgod | YNDIAN MYNAH</p><p><br></p><p>After a long h
 iatus\, Ohgod is ready to make a return\, promising an unforgettable\, min
 d-bending voyage through ethereal soundscapes. There are going to be plent
 y of soft\, spacey echoes\, as well as progressive riffs and beats. </p><
 p><br></p><p>Let the mesmerizing melodies of Brynn captivate your senses a
 nd take you on a journey through emotion and introspection. With a distinc
 tive sound that seamlessly weaves together elements of folk\, pop\, and so
 ul\, Brynn is a band that transcends genres and leaves a lasting impact. 
 </p><p><br></p><p>Immerse yourself in the ethereal world of YNDIAN MYNAH\,
  as they create an otherworldly sonic tapestry that transports you to the 
 realms of dreams and imagination. Combining ambient textures and intricate
  live instrumentation\, YNDIAN MYNAH crafts a musical universe that defies
  boundaries.</p><p><br></p><p>Mark your calendars and gather your friends 
 for a musical journey that spans genres and emotions.</p><p><br></p><p>Lin
 e Up:</p><p>Ohgod </p><p>Brynn</p><p>YNDIAN MYNAH</p><p><br></p><p>Live A
 t District.</p><p><br></p><p>Tickets</p><p>R100 Early Bird (limited availa
 ble) </p><p>R150 Pre-sale online </p><p>R180 Door tickets </p><p><br></
 p><p>Backline sponsored by Bothners Musical Instruments.</p><p><br></p>
LOCATION:61 Harrington Street\, Cape Town\, South Africa
SUMMARY:Live At District - OHGOD | BRYNN | YNDIAN MYNAH
URL;VALUE=URI:https://www.howler.co.za/liveatdistrict
END:VEVENT
END:VCALENDAR
