BEGIN:VCALENDAR
VERSION:2.0
PRODID:icalendar-ruby
CALSCALE:GREGORIAN
METHOD:PUBLISH
BEGIN:VEVENT
DTSTAMP:20260422T170536Z
UID:67164d61-605c-499b-b026-9015a6e9b040
DTSTART:20200627T170000
DTEND:20200627T235900
DESCRIPTION:<h2><strong style="background-color: rgb(255\, 255\, 255)\; col
 or: rgb(38\, 38\, 38)\;"><u>LOCKDOWN </u></strong><span style="background-
 color: rgb(255\, 255\, 255)\; color: rgb(38\, 38\, 38)\;">hosted by Hype E
 vents & TEEN FESTival is South Africa's largest u19 festival that showcase
 s DJs and acts from across the world as well as the best of local talent. 
 Bringing a safe environment for the under 19 community to have fun and enj
 oy themselves.</span></h2><p><br></p><p>somerset west*</p>
LOCATION:Somerset West\, Western Cape
SUMMARY:Lockdown
URL;VALUE=URI:https://www.howler.co.za/lockdown_ss
END:VEVENT
END:VCALENDAR
