BEGIN:VCALENDAR
VERSION:2.0
PRODID:icalendar-ruby
CALSCALE:GREGORIAN
METHOD:PUBLISH
BEGIN:VEVENT
DTSTAMP:20260421T164916Z
UID:f69dc7c3-b780-4db2-81b3-cbdbc6f943b4
DTSTART:20200423T160000
DTEND:20200424T000000
DESCRIPTION:<p>THIRSTY THURSDAY IN QUARANTINE</p>
SUMMARY:LOCKDOWN ONLINE HOUSE PARTY
URL;VALUE=URI:https://www.howler.co.za/HouseParty
END:VEVENT
END:VCALENDAR
