BEGIN:VCALENDAR
VERSION:2.0
PRODID:icalendar-ruby
CALSCALE:GREGORIAN
METHOD:PUBLISH
BEGIN:VEVENT
DTSTAMP:20260419T142448Z
UID:711651e8-a7ea-4927-b9cb-2624801e3b4d
DTSTART:20251229T140000
DTEND:20251230T020000
DESCRIPTION:<p><strong>Made in Mykonos Cape Town</strong> returns to Grand
  Africa Café & Beach on Monday\, 29 December 2025\, and you can expect ev
 erything you know and love from the event. Don’t miss the opportunity to
  secure your table or ticket for our biggest celebration yet! We can’t w
 ait to dance with you again\, and we can assure you that it’s going to b
 e our very best Made in Mykonos Cape Town to date!</p>
LOCATION:Haul Rd\, V & A Waterfront\, Cape Town\,\, Cape Town\, Western Cap
 e\, 8002
SUMMARY:Made In Mykonos 2025
URL;VALUE=URI:https://www.howler.co.za/madeinmykonos2025
END:VEVENT
END:VCALENDAR
