BEGIN:VCALENDAR
VERSION:2.0
PRODID:icalendar-ruby
CALSCALE:GREGORIAN
METHOD:PUBLISH
BEGIN:VEVENT
DTSTAMP:20260423T182311Z
UID:bbede46d-49b8-4d4d-92e1-19d12842d958
DTSTART:20260424T160000
DTEND:20260424T200000
DESCRIPTION:<p><strong>MILKSHAKES & MINI DONUTS MAGIC!</strong><span> ✨
 🍩🥤</span></p><p><br></p><p><span>This is not just a treat… It’s 
 an experience!</span></p><p><br></p><p><span>Your little one gets to:</spa
 n></p><p><span>🍩 Decorate their own mini doughnuts</span></p><p><span>
 🥤 Sip on a gourmet milkshake</span></p><p><span>🎉 Enjoy a full hour 
 of playtime fun</span></p><p><br></p><p><span>All for just </span><strong>
 R100 per child</strong><span> 💗</span></p><p><span>➕ Additional Playt
 ime – </span><strong>R40 per hour</strong></p><p><br></p><p><strong>Choo
 se from Cookies & Cream\, Milky Bar\, Cherry White and Caramel Fudge. </st
 rong></p><p><br></p><p><span>📅 Friday\, 24 April 2026</span></p><p><spa
 n>⏰ 16:00 & 18:00 slots</span></p><p><br></p><p><strong>While the kids p
 lay\, we’ve got you covered\, too!</strong></p><p><span>🔥 Chicken Sch
 nitzel Special (Sauce\, Chips & Onion Rings included) - </span><strong>R65
 </strong></p><p><span>🔥 400g Ribs\, Chips and Onion Rings - </span><str
 ong>R119</strong></p><p><br></p><p><span>Kids Factory grip socks 🧦not i
 ncluded</span></p><p><span>Sweet treats for them. Great food for you.</spa
 n></p><p><br></p><p><span>Spots are limited - book now on Howler before we
  sell out! 💫</span></p><p><br></p><p><br></p>
LOCATION:17 Bottelary Road\, Brackenfell
SUMMARY:Milkshakes & Mini Donuts
URL;VALUE=URI:https://www.howler.co.za/MilkshakesMiniDonuts
END:VEVENT
END:VCALENDAR
