BEGIN:VCALENDAR
VERSION:2.0
PRODID:icalendar-ruby
CALSCALE:GREGORIAN
METHOD:PUBLISH
BEGIN:VEVENT
DTSTAMP:20260425T170321Z
UID:b532a9e6-f6ff-4d14-a474-967f4ccc2e12
DTSTART:20250524T210000
DTEND:20250525T020000
DESCRIPTION:<p>Rumour is proud to present MONKEY SAFARI (Germany) live in S
 A at Renaissance for an unforgettable evening of pure soul touching Afro b
 eats.</p><p><br></p><p>Supporting artists:</p><p><br></p><p>Darque</p><p>C
 itizen Deep</p><p><br></p><p>Tickets are limited to 500.</p>
LOCATION:24 Central\, Sandton
SUMMARY:Monkey Safari by Rumour
URL;VALUE=URI:https://www.howler.co.za/Monkeysafari
END:VEVENT
END:VCALENDAR
