BEGIN:VCALENDAR
VERSION:2.0
PRODID:icalendar-ruby
CALSCALE:GREGORIAN
METHOD:PUBLISH
BEGIN:VEVENT
DTSTAMP:20260423T181346Z
UID:01d938a9-4947-4fc2-a85c-6dd68fed1f2f
DTSTART:20231209T100000
DTEND:20231209T220000
DESCRIPTION:<p>🌞 Dive into summer at our Shorts & Shades Farewell Editio
 n! Join us on Saturday\, December 9th\, at Intsingizi Bird Lodge for the u
 ltimate celebration. 🎉 Don your best shorts and shades for a day of sun
 -soaked fun\, fantastic tunes by Kota Nation & Friends\, delicious bites\,
  and refreshing cocktails. 🍹 Grab your tickets on Howler from R50 and l
 et's bid farewell to 2023 in style! 🎶 #MontanaPicnicBrunch #FarewellEdi
 tion #ShortsAndShades #SummerVibes #Goodbye2023</p>
LOCATION:154 Hornbill Crescent\, Montana\, Pretoria
SUMMARY:Montana Picnic Brunch 2023 Farewell Edition
URL;VALUE=URI:https://www.howler.co.za/MontanaPicnicBrunch
END:VEVENT
END:VCALENDAR
