BEGIN:VCALENDAR
VERSION:2.0
PRODID:icalendar-ruby
CALSCALE:GREGORIAN
METHOD:PUBLISH
BEGIN:VEVENT
DTSTAMP:20260421T092447Z
UID:b37d3a49-efed-4fe5-b3f9-2fdebe28d91e
DTSTART:20260501T210000
DTEND:20260502T040000
DESCRIPTION:<p>Not Sorry lands at eight.thenightclub</p><p><br></p><p>01 Ma
 y — Rosebank\, Johannesburg</p><p><br></p><p>A night built on deep atmos
 phere\, forward-thinking sound\, and a crowd that knows exactly why they
 ’re there.</p><p><br></p><p>This is not just another night out. It’s a
  curated showcase of groove-driven electronic music\, darker energy\, and 
 a room designed to hold it properly from start to finish.</p><p><br></p><p
 >Eight becomes the backdrop — intimate\, controlled\, and immersive. Fro
 m the lineup to the flow of the night\, everything is shaped with intentio
 n.</p><p><br></p><p>No filler. No distractions. Just the music and the exp
 erience it creates.</p><p><br></p><p>If you know\, you know.</p><p>If you 
 don’t\, this is where you find out.</p><p><br></p><p>Doors open: 21:00</
 p><p>Limited capacity.</p><p><br></p>
LOCATION:9 walters street\, Rosebank Quarter 
SUMMARY:NotSorry 
URL;VALUE=URI:https://www.howler.co.za/notsorryrecords
END:VEVENT
END:VCALENDAR
