BEGIN:VCALENDAR
VERSION:2.0
PRODID:icalendar-ruby
CALSCALE:GREGORIAN
METHOD:PUBLISH
BEGIN:VEVENT
DTSTAMP:20260425T170255Z
UID:aa1248ca-b1ad-4945-9e0a-8b455d636882
DTSTART:20260207T060000
DTEND:20260208T020000
DESCRIPTION:<p>👑 <strong>AEY PRESENTS</strong></p><p><br></p><h3><strong
 >2026 IS THE NEW 2016</strong></h3><p><strong>O-WEEK SIGNATURE EVENT</stro
 ng></p><p><br></p><p>WE ARE GOING TO MAKE PRETORIA SHAKE AGAIN.</p><p><br>
 </p><p>AEY Promotions invites you to an elite O-Week experience that sets 
 the standard. <strong>2026 Is the New 2016</strong> is a carefully curated
  Y2K-inspired event where iconic eras\, premium sound\, and striking produ
 ction come together for one unforgettable night.</p><p>Expect a powerful b
 lend of <strong>early-2000s\, 2010s\, and 2016 anthems</strong>\, immersiv
 e visuals\, and high-energy performances designed to mark the beginning of
  the academic year in style. This is not a typical student party — it’
 s a <strong>statement event</strong>.</p><p><br></p><p>This is where first
  impressions are made\, memories are created\, and O-Week is done properly
 .</p><p><br></p><h3>EVENT DETAILS</h3><p>🕡 <strong>Time:</strong> 6:00 
 PM – 2:00 AM</p><p>📍 <strong>Venue:</strong> Kaapstad Brauhaus\, Menl
 o Park</p><p>📅 <strong>Date:</strong> Saturday\, 7 February</p><p><br><
 /p><h3>DRESS CODE</h3><p>Bring your A-game.</p><p><br></p><h3>CAPTURE THE 
 NIGHT</h3><p>Professional photographers and videographers will be on-site 
 throughout the event\, ensuring every look\, moment\, and memory is captur
 ed with style and precision.</p><p>This is more than just another night ou
 t.</p><p>This is more than an O-Week party.</p><p><br></p><p>✨ <strong>T
 his is AEY.</strong></p><p><br></p><p>🎟️ <strong>Tickets are strictly
  limited — secure yours before they sell out.</strong></p><p><br></p><p>
 <br></p>
LOCATION:13A Greenlyn Village Cnr Thomas Edison &\, 13th St\, Menlo Park\, 
 Pretoria\, 0181
SUMMARY:O-WEEK
URL;VALUE=URI:https://www.howler.co.za/0-WEEK
END:VEVENT
END:VCALENDAR
