BEGIN:VCALENDAR
VERSION:2.0
PRODID:icalendar-ruby
CALSCALE:GREGORIAN
METHOD:PUBLISH
BEGIN:VEVENT
DTSTAMP:20260423T153834Z
UID:2ffaf60a-fa5c-4d4d-ba8d-c41fe43a8509
DTSTART:20231021T110000
DTEND:20231021T230000
DESCRIPTION:<p>Join us October 21st for our annual beer festival ! With onl
 y 350 tickets up for grabs at R50each\, secure your spot now. Your ticket 
 includes a complementary first beer. Enjoy the rugby on a big screen. Grea
 t food\, great beer and lots of great live music throughout the day. Don't
  miss out on the fun.</p>
LOCATION:hole-in-one Ave\, Ruimsig\, Roodepoort
SUMMARY:October Beer Festival 
URL;VALUE=URI:https://www.howler.co.za/octoberbeerfestival
END:VEVENT
END:VCALENDAR
