BEGIN:VCALENDAR
VERSION:2.0
PRODID:icalendar-ruby
CALSCALE:GREGORIAN
METHOD:PUBLISH
BEGIN:VEVENT
DTSTAMP:20260421T163010Z
UID:be9073f6-44ca-44d8-8ab2-913663b83621
DTSTART:20250627T200000
DTEND:20250628T040000
DESCRIPTION:<p>Feathers\, flannel\, and fire beats incoming 💫</p><p>Madi
 son’s is bringing you the ultimate Pajama Party 🍸 - Come comfy\, leav
 e legendary!</p><p><br></p><p>🧸✨ Think cozy fits\, late-night energy\
 , and vibes that hit different.</p><p>🎧 Featuring: DEKSTIR\, MASTER SIM
 Z\, HURSHIL\, LIAM G & DJ BZM - where Afrotech meets House meets HipHop me
 ets RNB meets Amapiano ✨</p><p>🥤 Vodka & Mix + Nightcap Shooters from
  R15 (8PM–10:30PM)</p><p><br></p><p>🗓️ 27 June | ⏰ 8PM</p><p>📍
  19 Wessel Road\, Rivonia</p><p><br></p><p>Dress code: Your best bedtime o
 utfit! 🧦</p>
LOCATION:19 Wessel Rd\, Rivonia\, Johannesburg\, 2128
SUMMARY:Pajama Party 🧸🧦✨
URL;VALUE=URI:https://www.howler.co.za/27-june-madison-pajama-party
END:VEVENT
END:VCALENDAR
