BEGIN:VCALENDAR
VERSION:2.0
PRODID:icalendar-ruby
CALSCALE:GREGORIAN
METHOD:PUBLISH
BEGIN:VEVENT
DTSTAMP:20260425T034206Z
UID:bc232dd5-5e8e-4aa0-aba4-d0918cb8ea11
DTSTART:20240727T170000
DTEND:20240728T020000
DESCRIPTION:<p>The Massive Pianoland Returns!</p>
LOCATION:Dakota Cres\, Airport park\, Germiston
SUMMARY:PIANOLAND
URL;VALUE=URI:https://www.howler.co.za/pianoland27july
END:VEVENT
END:VCALENDAR
