BEGIN:VCALENDAR
VERSION:2.0
PRODID:icalendar-ruby
CALSCALE:GREGORIAN
METHOD:PUBLISH
BEGIN:VEVENT
DTSTAMP:20260425T034715Z
UID:56ba8bf6-a47e-411b-a417-51cf89dd9513
DTSTART:20240618T170000
DTEND:20240619T020000
DESCRIPTION:<p>The MASSIVE Pianoland returns to Huula Beach!</p>
LOCATION:Dakota Cres\, Airport park\, Germiston
SUMMARY:PIANOLAND
URL;VALUE=URI:https://www.howler.co.za/Pianoland29june
END:VEVENT
END:VCALENDAR
