BEGIN:VCALENDAR
VERSION:2.0
PRODID:icalendar-ruby
CALSCALE:GREGORIAN
METHOD:PUBLISH
BEGIN:VEVENT
DTSTAMP:20260419T132826Z
UID:4775f49a-838d-43cd-b818-6a6bec0e78f1
DTSTART:20220325T000000
DTEND:20220327T000000
DESCRIPTION:<p>Namibian born Pierre Pienaar is one of the most prominent na
 mes in the Electronic Dance Music\, especially in the trance genre. He has
  racked up close to a 100 commercially released singles and over 80 offici
 al remixes under his Pierre Pienaar\, P.H.A.T.T.\, Pierre Pressure\, Melod
 ia\, ReBirth\, JXS Project and Deep Sequence aliases\, spanning over more 
 than a decade and having his music licensed to respected record labels lik
 e Ministry of Sound\, Sony / BMG\, Universal\, Warner Bros\, EMI\, Armada\
 , Vandit\, Flashover\, Nukleuz\, Tidy\, Monster Tunes\, Cloud 9\, Be Yours
 elf Music and Black Hole Recordings. He has been commissioned to do offici
 al remixes for the likes of Technotronic\, Bob Marley\, Roger Shah\, Fabio
  XB\, Lost Witness\, BK\, Ratty\, CRW\, Mario Piu\, Ralph Novell\, and Mau
 ro Picotto among others.</p><p><br></p><p>He was the Head of Nukleuz Green
  which released prolific productions from the likes of Mauro Picotto\, Alp
 hazone\, Mario Piu\, Gigi D’Agostino\, Tillmann Uhrmacher and many other
 s which was the number-one selling vinyl record label in the UK for three 
 years running and became Music Week’s number-one UK Dance label. In 2017
  he co-produced “Stronger Together” with Grammy-winner Paul van Dyk (f
 or Best Soundtrack in A Motion Picture “The Dark Knight”)\, which quic
 kly rose to the number-one spot on the Beatport Trance top 100 and is cons
 idered one of the biggest modern trance classics. In 2019 Pierre was voted
  into the Top 30 of the Trancepodium Top 100 DJ’s poll\, which is an int
 ernational poll and considered the most important poll in the trance indus
 try for DJ’s.</p><p><br></p><p>Our venue of choice for this weekend affa
 ir is Stateless\, 273 Long Street nestled on the upper part of Long street
  and surrounded by some iconic places Stateless is the perfect for an inti
 mate session with one of the worlds biggest trance dj's.</p><p><br></p><p>
 The event will run over 2 nights Fri 25 March & 26 March both nights consi
 sting of a completely different line up of Dj's to take you on this musica
 l journey.</p><p><br></p><p>Fri 25 March</p><p><br></p><p>Smash</p><p>Lady
  G</p><p>Jason 47</p><p>Pierre Pienaar</p><p>Psycho Keaton</p><p>Jo_Kaine<
 /p><p><br></p><p>Sat 26 March</p><p><br></p><p>Rabs</p><p>Martyr</p><p>Sma
 sh</p><p>Top Deck</p><p>Jamie Fox & Marvin</p><p><br></p><p><br></p><p>Sat
 urday night coincides with the Long street open air market the street will
  be closed from Pepper up to Buiten singel\, consisting of food vendors\, 
 food markets\, pop up bars and 3 additional music stages (done by Jacked e
 vents for Long Street Open Air Market)</p><p><br></p><p>Fully licensed bar
  with crazy in house drink specials\, Ballantine's activations crazy give 
 aways and one or two sneaky surprises.</p><p><br></p><p>PLEASE NOTE: the v
 enue has all COVID protocols in place and uses a strict sign in system tha
 t needs to be adhered too.</p>
LOCATION:273 Long Street\, Cape Town
SUMMARY:Pierre Pienaar Cape Town 2022
URL;VALUE=URI:https://www.howler.co.za/PierrePienaarCT22
END:VEVENT
END:VCALENDAR
