BEGIN:VCALENDAR
VERSION:2.0
PRODID:icalendar-ruby
CALSCALE:GREGORIAN
METHOD:PUBLISH
BEGIN:VEVENT
DTSTAMP:20260421T121034Z
UID:a67728f5-f1d3-4996-b03b-969900e9f08f
DTSTART:20260328T160000
DTEND:20260329T020000
DESCRIPTION:<p><em style="color: rgb(0\, 0\, 0)\;">Places&Faces</em><span s
 tyle="color: rgb(0\, 0\, 0)\;"> is a cultural experience at the intersect
 ion of fashion\, music\, and nightlife—designed for people who live to c
 onnect and express.</span></p>
LOCATION:Time Square\, Menlyn\, Pretoria
SUMMARY:Places & Faces
URL;VALUE=URI:https://www.howler.co.za/pnf28
END:VEVENT
END:VCALENDAR
