BEGIN:VCALENDAR
VERSION:2.0
PRODID:icalendar-ruby
CALSCALE:GREGORIAN
METHOD:PUBLISH
BEGIN:VEVENT
DTSTAMP:20260422T010504Z
UID:062ef8ea-3c98-4c41-8b98-919cf161c0c3
DTSTART:20251231T170000
DTEND:20260101T003000
DESCRIPTION:<h3>Plett’s Biggest NYE Festival Is Back! 🌅✨</h3><p><br>
 </p><p>The <strong>most epic way to welcome 2026</strong> - <strong>FlySaf
 air Get Lucky Summer NYE</strong> returns to Plett\, bringing your <strong
 >favourite holiday tradition under the stars</strong> with the very best i
 n live music\, beer gardens\, sunsets\, and that barefoot-on-the-grass fre
 edom you wait for all year.</p><p><br></p><p>This is <strong>Plett’s NYE
 </strong>: salty hair\, picnic blankets\, ice-cold drinks\, kids running a
 round with glow sticks\, and your crew dancing into the new year under the
  summer sky.</p><p><br></p><p><span style="color: rgb(64\, 77\, 87)\;">Fol
 low </span><a href="https://www.instagram.com/getluckysummersa" target="_b
 lank" style="color: rgb(248\, 128\, 63)\;"><strong>FlySafair Get Lucky Sum
 mer</strong></a><span style="color: rgb(64\, 77\, 87)\;"> for announcemen
 ts.</span></p><p><br></p><p><br></p><h2><strong style="color: rgb(29\, 33\
 , 41)\;"><u>THE EXPERIENCE</u></strong></h2><h3><br></h3><p>Get Lucky Summ
 er NYE is more than JUST a concert – it’s <strong>the best day of your
  holiday</strong>:</p><p>✨ Lay out your picnic at sunset and let some of
  the best bands in South Africa take you into 2026!</p><p>✨ Sing\, dance
 \, and toast to the year with your mates.</p><p>✨ Enjoy gourmet food tru
 cks\, an ice-cold beer garden & our VIP deck for a brilliant view!</p><p>
 ✨ A safe\, family-friendly space with plenty of space to dance and chill
 .</p><p><br></p><p><strong><em>Start 2026 the way it should be: with your 
 people\, your favourite music\, near the ocean and your feet in the grass.
 </em></strong></p><p><br></p><h2><strong style="color: rgb(29\, 33\, 41)\;
 "><u>LINE UP:</u></strong></h2><p><br></p><p>JEREMY LOOPS</p><p>BEN RODRIG
 UES</p><p>ME & MR GREEN</p><p>VERANDA PANDA</p><p>STEVE UMCULO</p><p>.... 
 & DJS TBA</p><p><br></p><h2><strong><u>EVENT TIMES:</u></strong></h2><p><b
 r></p><h3><strong>EVENT DETAILS</strong></h3><p>📍 <strong>Plettenberg B
 ay</strong></p><p>📅 <strong>Wednesday\, 31 December (NYE)</strong></p><
 p>⏰ Gates open 17:00 | Music until 01:00</p><p><em>Check our socials for
  final stage times closer to the date.</em></p><p><br></p><p><br></p><h2><
 strong style="color: rgb(29\, 33\, 41)\;"><u>TICKETS</u></strong></h2><p><
 br></p><h2><strong>***BOOK NOW***</strong></h2><p><br></p><h3><strong>GENE
 RAL:</strong></h3><p>Family of 4 (discount): R320</p><p>Early Bird: R380</
 p><p>Phase 2: R450</p><p>Final Phase: R550</p><p>Kids U12: R300</p><p><br>
 </p><h3><strong>VIP OPTIONS:</strong></h3><p><br></p><p><span>VIP VIEWING 
 DECK TICKETS - R750 (Over 18 ONLY) - Includes own raised viewing deck with
  fewer people & more space\, some seating\, VIP area\, own bar area & acce
 ss to VIP toilets.</span></p><p><br></p><p><span>VIP FAMILY AREA TICKETS -
  R750  - Includes own Family VIP area with fewer people & more space\, som
 e seating\, VIP area\, own (Alc free) bar area & access to VIP toilets.</s
 pan></p><p><br></p><p><strong><em>ACCESS TO THE VIP VIEWING DECK IS STRICT
 LY OVER 18 ONLY</em></strong></p><p><br></p><h3><strong>FOOD & DRINKS</str
 ong></h3><p>We’ve lined up <strong>the best gourmet food trucks\, coffee
  carts\, and summer bar options</strong> so you can stay fuelled while you
  dance. No alcohol may be brought in\, but we’ll have you covered with i
 ce-cold drinks all day.</p><h3><br></h3><h3><strong>PARKING</strong></h3><
 p>Limited on-site parking available. We recommend local taxis if you plan 
 to enjoy a few drinks.</p><h3><br></h3><h3><strong>SAFETY</strong></h3><p>
 All ages welcome. IDs on request at the gate. Under 18s receive different 
 accreditation.</p><p><br></p><p><br></p>
LOCATION:10 Gris Nez Ave\, Plettenberg Bay\, 6600
SUMMARY:Plett NYE Festival - 31 December [ft Jeremy Loops\, Ben Rodrigues\,
  Me & Mr Green\, Veranda Panda & Steve Umculo]
URL;VALUE=URI:https://www.howler.co.za/PlettNYE25
END:VEVENT
END:VCALENDAR
