BEGIN:VCALENDAR
VERSION:2.0
PRODID:icalendar-ruby
CALSCALE:GREGORIAN
METHOD:PUBLISH
BEGIN:VEVENT
DTSTAMP:20260425T110308Z
UID:b2476ce7-7d40-4746-a93e-1d59a98784f3
DTSTART:20260425T134500
DTEND:20260425T180000
DESCRIPTION:
LOCATION:street name 
SUMMARY:Polo Exibition
URL;VALUE=URI:https://www.howler.co.za/events/polo-exibition-5e77
END:VEVENT
END:VCALENDAR
