BEGIN:VCALENDAR
VERSION:2.0
PRODID:icalendar-ruby
CALSCALE:GREGORIAN
METHOD:PUBLISH
BEGIN:VEVENT
DTSTAMP:20260422T170657Z
UID:b1d2d76d-755a-4b84-87a5-c88d2b11936b
DTSTART:20260108T120000
DTEND:20260109T040000
DESCRIPTION:<p>Popular Demand Is Back For Another Thursday </p><p>@The Gree
 nhouse Sandton ft- Karyendasoul </p>
LOCATION:Sandton 
SUMMARY:Popular Demand
URL;VALUE=URI:https://www.howler.co.za/PopDemand8Jan
END:VEVENT
END:VCALENDAR
